BEGIN:VCALENDAR
VERSION:2.0
PRODID:-//Christ Presbyterian Church of Auburn, PCA - ECPv6.7.0//NONSGML v1.0//EN
CALSCALE:GREGORIAN
METHOD:PUBLISH
X-WR-CALNAME:Christ Presbyterian Church of Auburn, PCA
X-ORIGINAL-URL:https://christpresauburn.org
X-WR-CALDESC:Events for Christ Presbyterian Church of Auburn, PCA
REFRESH-INTERVAL;VALUE=DURATION:PT1H
X-Robots-Tag:noindex
X-PUBLISHED-TTL:PT1H
BEGIN:VTIMEZONE
TZID:America/Chicago
BEGIN:DAYLIGHT
TZOFFSETFROM:-0600
TZOFFSETTO:-0500
TZNAME:CDT
DTSTART:20250309T080000
END:DAYLIGHT
BEGIN:STANDARD
TZOFFSETFROM:-0500
TZOFFSETTO:-0600
TZNAME:CST
DTSTART:20251102T070000
END:STANDARD
END:VTIMEZONE
BEGIN:VEVENT
DTSTART;TZID=America/Chicago:20250827T063000
DTEND;TZID=America/Chicago:20250827T073000
DTSTAMP:20260420T051018
CREATED:20250214T202214Z
LAST-MODIFIED:20250214T202214Z
UID:2581-1756276200-1756279800@christpresauburn.org
SUMMARY:Men's Small Group
DESCRIPTION:At Chappy’s Deli (754 E. Glenn Ave.). Contact Stephen Wadsworth for more information at 205-520-6723.
URL:https://christpresauburn.org/featured-event/mens-small-group-4/2025-08-27/
END:VEVENT
BEGIN:VEVENT
DTSTART;TZID=America/Chicago:20250826T060000
DTEND;TZID=America/Chicago:20250826T070000
DTSTAMP:20260420T051018
CREATED:20250214T202051Z
LAST-MODIFIED:20250214T202051Z
UID:2610-1756188000-1756191600@christpresauburn.org
SUMMARY:Men's Small Group
DESCRIPTION:At Steve Brown’s home (2067 Lamb Lane). Please let Steve know (229-387-1786) if you’re coming so that you’re included in the number for breakfast.
URL:https://christpresauburn.org/featured-event/mens-small-group-3/2025-08-26/
END:VEVENT
BEGIN:VEVENT
DTSTART;TZID=America/Chicago:20250825T180000
DTEND;TZID=America/Chicago:20250825T193000
DTSTAMP:20260420T051018
CREATED:20250814T173657Z
LAST-MODIFIED:20250814T173657Z
UID:2669-1756144800-1756150200@christpresauburn.org
SUMMARY:Empty Nesters and Beyond Dinner Out
DESCRIPTION:Join us for fellowship and dinner together at Hector’s Cantina and Grill (1936 S. College St.). Please let Sheila Masters (205-991-8525) know if you plan to attend.
URL:https://christpresauburn.org/featured-event/empty-nesters-and-beyond-dinner-out-2/
END:VEVENT
BEGIN:VEVENT
DTSTART;TZID=America/Chicago:20250824T100000
DTEND;TZID=America/Chicago:20250824T104500
DTSTAMP:20260420T051018
CREATED:20250725T153648Z
LAST-MODIFIED:20250725T154004Z
UID:2564-1756029600-1756032300@christpresauburn.org
SUMMARY:Inquirer's Class
DESCRIPTION:This is led by Eric Zellner and is for those who would like to learn more about Christ Presbyterian Church and may be interested in joining. We will meet during the Sunday School hour in the Alumni Center boardroom. Please let Katie Hames know if you plan to attend. (615-424-8190 or katie@christpresauburn.org)
URL:https://christpresauburn.org/featured-event/inquirers-class-4/2025-08-24/
END:VEVENT
BEGIN:VEVENT
DTSTART;TZID=America/Chicago:20250821T180000
DTEND;TZID=America/Chicago:20250821T200000
DTSTAMP:20260420T051018
CREATED:20250520T193025Z
LAST-MODIFIED:20250520T193025Z
UID:2702-1755799200-1755806400@christpresauburn.org
SUMMARY:Young Adults Dinner and Discussion
DESCRIPTION:Young adult guys and girls\, join us on Thursdays this summer at the Shidelers’ home (1818 Shadow Bend)  for dinner and discussion of “Made for People” by Justin Whitmel Earley. If you need a copy of the book\, please either pay Josh directly or send $12 via Venmo to the church.
URL:https://christpresauburn.org/featured-event/young-adults-dinner-and-discussion/2025-08-21/
END:VEVENT
BEGIN:VEVENT
DTSTART;TZID=America/Chicago:20250820T063000
DTEND;TZID=America/Chicago:20250820T073000
DTSTAMP:20260420T051018
CREATED:20250214T202214Z
LAST-MODIFIED:20250214T202214Z
UID:2580-1755671400-1755675000@christpresauburn.org
SUMMARY:Men's Small Group
DESCRIPTION:At Chappy’s Deli (754 E. Glenn Ave.). Contact Stephen Wadsworth for more information at 205-520-6723.
URL:https://christpresauburn.org/featured-event/mens-small-group-4/2025-08-20/
END:VEVENT
BEGIN:VEVENT
DTSTART;TZID=America/Chicago:20250819T200000
DTEND;TZID=America/Chicago:20250819T213000
DTSTAMP:20260420T051018
CREATED:20250814T173123Z
LAST-MODIFIED:20250814T173123Z
UID:2646-1755633600-1755639000@christpresauburn.org
SUMMARY:College Girls Bible Study
DESCRIPTION:Led by Katie Hames at the Hameses’ home ( 732 Annabrook Dr.). Contact Katie for more information at 615-424-8190.
URL:https://christpresauburn.org/featured-event/college-girls-bible-study-6/2025-08-19/
END:VEVENT
BEGIN:VEVENT
DTSTART;TZID=America/Chicago:20250819T060000
DTEND;TZID=America/Chicago:20250819T070000
DTSTAMP:20260420T051018
CREATED:20250214T202051Z
LAST-MODIFIED:20250214T202051Z
UID:2609-1755583200-1755586800@christpresauburn.org
SUMMARY:Men's Small Group
DESCRIPTION:At Steve Brown’s home (2067 Lamb Lane). Please let Steve know (229-387-1786) if you’re coming so that you’re included in the number for breakfast.
URL:https://christpresauburn.org/featured-event/mens-small-group-3/2025-08-19/
END:VEVENT
BEGIN:VEVENT
DTSTART;TZID=America/Chicago:20250817T100000
DTEND;TZID=America/Chicago:20250817T104500
DTSTAMP:20260420T051018
CREATED:20250725T153648Z
LAST-MODIFIED:20250725T154004Z
UID:2563-1755424800-1755427500@christpresauburn.org
SUMMARY:Inquirer's Class
DESCRIPTION:This is led by Eric Zellner and is for those who would like to learn more about Christ Presbyterian Church and may be interested in joining. We will meet during the Sunday School hour in the Alumni Center boardroom. Please let Katie Hames know if you plan to attend. (615-424-8190 or katie@christpresauburn.org)
URL:https://christpresauburn.org/featured-event/inquirers-class-4/2025-08-17/
END:VEVENT
BEGIN:VEVENT
DTSTART;TZID=America/Chicago:20250814T180000
DTEND;TZID=America/Chicago:20250814T200000
DTSTAMP:20260420T051018
CREATED:20250520T193025Z
LAST-MODIFIED:20250520T193025Z
UID:2701-1755194400-1755201600@christpresauburn.org
SUMMARY:Young Adults Dinner and Discussion
DESCRIPTION:Young adult guys and girls\, join us on Thursdays this summer at the Shidelers’ home (1818 Shadow Bend)  for dinner and discussion of “Made for People” by Justin Whitmel Earley. If you need a copy of the book\, please either pay Josh directly or send $12 via Venmo to the church.
URL:https://christpresauburn.org/featured-event/young-adults-dinner-and-discussion/2025-08-14/
END:VEVENT
BEGIN:VEVENT
DTSTART;TZID=America/Chicago:20250813T063000
DTEND;TZID=America/Chicago:20250813T073000
DTSTAMP:20260420T051018
CREATED:20250214T202214Z
LAST-MODIFIED:20250214T202214Z
UID:2579-1755066600-1755070200@christpresauburn.org
SUMMARY:Men's Small Group
DESCRIPTION:At Chappy’s Deli (754 E. Glenn Ave.). Contact Stephen Wadsworth for more information at 205-520-6723.
URL:https://christpresauburn.org/featured-event/mens-small-group-4/2025-08-13/
END:VEVENT
BEGIN:VEVENT
DTSTART;TZID=America/Chicago:20250812T060000
DTEND;TZID=America/Chicago:20250812T070000
DTSTAMP:20260420T051018
CREATED:20250214T202051Z
LAST-MODIFIED:20250214T202051Z
UID:2608-1754978400-1754982000@christpresauburn.org
SUMMARY:Men's Small Group
DESCRIPTION:At Steve Brown’s home (2067 Lamb Lane). Please let Steve know (229-387-1786) if you’re coming so that you’re included in the number for breakfast.
URL:https://christpresauburn.org/featured-event/mens-small-group-3/2025-08-12/
END:VEVENT
BEGIN:VEVENT
DTSTART;TZID=America/Chicago:20250810T100000
DTEND;TZID=America/Chicago:20250810T104500
DTSTAMP:20260420T051018
CREATED:20250725T153648Z
LAST-MODIFIED:20250725T154004Z
UID:2562-1754820000-1754822700@christpresauburn.org
SUMMARY:Inquirer's Class
DESCRIPTION:This is led by Eric Zellner and is for those who would like to learn more about Christ Presbyterian Church and may be interested in joining. We will meet during the Sunday School hour in the Alumni Center boardroom. Please let Katie Hames know if you plan to attend. (615-424-8190 or katie@christpresauburn.org)
URL:https://christpresauburn.org/featured-event/inquirers-class-4/2025-08-10/
END:VEVENT
BEGIN:VEVENT
DTSTART;TZID=America/Chicago:20250810T083000
DTEND;TZID=America/Chicago:20250810T120000
DTSTAMP:20260420T051018
CREATED:20250725T154317Z
LAST-MODIFIED:20250725T154317Z
UID:2568-1754814600-1754827200@christpresauburn.org
SUMMARY:Return to 2 Worship Services
DESCRIPTION:Beginning August 10\, we will return to having 2 worship services each week at 8:30am and 11am with Sunday School at 10:00.
URL:https://christpresauburn.org/featured-event/return-to-2-worship-services/
END:VEVENT
BEGIN:VEVENT
DTSTART;TZID=America/Chicago:20250807T180000
DTEND;TZID=America/Chicago:20250807T200000
DTSTAMP:20260420T051018
CREATED:20250520T193025Z
LAST-MODIFIED:20250520T193025Z
UID:2700-1754589600-1754596800@christpresauburn.org
SUMMARY:Young Adults Dinner and Discussion
DESCRIPTION:Young adult guys and girls\, join us on Thursdays this summer at the Shidelers’ home (1818 Shadow Bend)  for dinner and discussion of “Made for People” by Justin Whitmel Earley. If you need a copy of the book\, please either pay Josh directly or send $12 via Venmo to the church.
URL:https://christpresauburn.org/featured-event/young-adults-dinner-and-discussion/2025-08-07/
END:VEVENT
BEGIN:VEVENT
DTSTART;TZID=America/Chicago:20250806T063000
DTEND;TZID=America/Chicago:20250806T073000
DTSTAMP:20260420T051018
CREATED:20250214T202214Z
LAST-MODIFIED:20250214T202214Z
UID:2578-1754461800-1754465400@christpresauburn.org
SUMMARY:Men's Small Group
DESCRIPTION:At Chappy’s Deli (754 E. Glenn Ave.). Contact Stephen Wadsworth for more information at 205-520-6723.
URL:https://christpresauburn.org/featured-event/mens-small-group-4/2025-08-06/
END:VEVENT
BEGIN:VEVENT
DTSTART;TZID=America/Chicago:20250805T060000
DTEND;TZID=America/Chicago:20250805T070000
DTSTAMP:20260420T051018
CREATED:20250214T202051Z
LAST-MODIFIED:20250214T202051Z
UID:2607-1754373600-1754377200@christpresauburn.org
SUMMARY:Men's Small Group
DESCRIPTION:At Steve Brown’s home (2067 Lamb Lane). Please let Steve know (229-387-1786) if you’re coming so that you’re included in the number for breakfast.
URL:https://christpresauburn.org/featured-event/mens-small-group-3/2025-08-05/
END:VEVENT
BEGIN:VEVENT
DTSTART;TZID=America/Chicago:20250803T100000
DTEND;TZID=America/Chicago:20250803T111500
DTSTAMP:20260420T051018
CREATED:20250307T173134Z
LAST-MODIFIED:20250520T191422Z
UID:2399-1754215200-1754219700@christpresauburn.org
SUMMARY:Worship Service at 10:00am
DESCRIPTION:We will worship today in one service at 10:00am.
URL:https://christpresauburn.org/featured-event/1-worship-service-at-1000am-3/2025-08-03/
END:VEVENT
BEGIN:VEVENT
DTSTART;TZID=America/Chicago:20250731T180000
DTEND;TZID=America/Chicago:20250731T200000
DTSTAMP:20260420T051018
CREATED:20250520T193025Z
LAST-MODIFIED:20250814T175303Z
UID:2494-1753984800-1753992000@christpresauburn.org
SUMMARY:Young Adults Dinner and Discussion
DESCRIPTION:Young adult guys and girls\, join us on Thursdays this summer at the Shidelers’ home (1818 Shadow Bend)  for dinner and discussion of “Made for People” by Justin Whitmel Earley. If you need a copy of the book\, please either pay Josh directly or send $12 via Venmo to the church.
URL:https://christpresauburn.org/featured-event/young-adults-dinner-and-discussion/2025-07-31/
END:VEVENT
BEGIN:VEVENT
DTSTART;TZID=America/Chicago:20250730T180000
DTEND;TZID=America/Chicago:20250730T200000
DTSTAMP:20260420T051018
CREATED:20250606T185722Z
LAST-MODIFIED:20250606T185722Z
UID:2530-1753898400-1753905600@christpresauburn.org
SUMMARY:Youth Wednesday Night Fellowship
DESCRIPTION:On Wednesday nights this summer we’ll gather to study Sanctification. This week we’ll be at the Shidelers’ house (1818 Shadow Bend). We’ll eat\, play a game\, then have a lesson and some small group time. Hope to see everyone there!
URL:https://christpresauburn.org/featured-event/youth-wednesday-night-fellowship-6/
END:VEVENT
BEGIN:VEVENT
DTSTART;TZID=America/Chicago:20250730T063000
DTEND;TZID=America/Chicago:20250730T073000
DTSTAMP:20260420T051018
CREATED:20250214T202214Z
LAST-MODIFIED:20250214T202214Z
UID:2577-1753857000-1753860600@christpresauburn.org
SUMMARY:Men's Small Group
DESCRIPTION:At Chappy’s Deli (754 E. Glenn Ave.). Contact Stephen Wadsworth for more information at 205-520-6723.
URL:https://christpresauburn.org/featured-event/mens-small-group-4/2025-07-30/
END:VEVENT
BEGIN:VEVENT
DTSTART;TZID=America/Chicago:20250729T190000
DTEND;TZID=America/Chicago:20250729T210000
DTSTAMP:20260420T051018
CREATED:20250725T153856Z
LAST-MODIFIED:20250725T153856Z
UID:2567-1753815600-1753822800@christpresauburn.org
SUMMARY:Youth Movie Night and Swim Party
DESCRIPTION:Youth\, wear your bathing suits and join us at the Spences’ house (1250 Falls Crest Dr.). We’ll have snacks\, watch a movie and swim. Hope to see you there!
URL:https://christpresauburn.org/featured-event/youth-movie-night-and-swim-party/
END:VEVENT
BEGIN:VEVENT
DTSTART;TZID=America/Chicago:20250729T060000
DTEND;TZID=America/Chicago:20250729T070000
DTSTAMP:20260420T051018
CREATED:20250214T202051Z
LAST-MODIFIED:20250214T202051Z
UID:2606-1753768800-1753772400@christpresauburn.org
SUMMARY:Men's Small Group
DESCRIPTION:At Steve Brown’s home (2067 Lamb Lane). Please let Steve know (229-387-1786) if you’re coming so that you’re included in the number for breakfast.
URL:https://christpresauburn.org/featured-event/mens-small-group-3/2025-07-29/
END:VEVENT
BEGIN:VEVENT
DTSTART;TZID=America/Chicago:20250728T180000
DTEND;TZID=America/Chicago:20250728T200000
DTSTAMP:20260420T051018
CREATED:20250515T140118Z
LAST-MODIFIED:20250515T140309Z
UID:2465-1753725600-1753732800@christpresauburn.org
SUMMARY:College Guys Summer Basketball
DESCRIPTION:Guys\, if you’re interested in joining us for fellowship and basketball this summer\, text Caleb Gaunce (270-564-2507) and he’ll add you to the GroupMe.
URL:https://christpresauburn.org/featured-event/college-guys-summer-basketball/2025-07-28/
END:VEVENT
BEGIN:VEVENT
DTSTART;TZID=America/Chicago:20250728T100000
DTEND;TZID=America/Chicago:20250728T110000
DTSTAMP:20260420T051018
CREATED:20250606T183238Z
LAST-MODIFIED:20250606T190252Z
UID:2519-1753696800-1753700400@christpresauburn.org
SUMMARY:Youth Girls Summer Bible Study
DESCRIPTION:Girls\, come for Bible Study with Blair and Lily at different locations each week. This week we’ll meet at The Carriage House (651 E. Samford Ave.) Contact Lily Sullivan (334-707-0377) with questions.
URL:https://christpresauburn.org/featured-event/youth-girls-summer-bible-study-2025-07-28/
END:VEVENT
BEGIN:VEVENT
DTSTART;TZID=America/Chicago:20250727T173000
DTEND;TZID=America/Chicago:20250727T193000
DTSTAMP:20260420T051018
CREATED:20250515T142103Z
LAST-MODIFIED:20250725T153359Z
UID:2474-1753637400-1753644600@christpresauburn.org
SUMMARY:Churchwide Hymn Sing and Fellowship
DESCRIPTION:Join us at Langdon Hall for our annual hymn sing and plan to stay after we sing to enjoy fellowship and dessert on the lawn. Hope to see everyone there!
URL:https://christpresauburn.org/featured-event/churchwide-hymn-sing-and-picnic/
END:VEVENT
BEGIN:VEVENT
DTSTART;TZID=America/Chicago:20250727T100000
DTEND;TZID=America/Chicago:20250727T111500
DTSTAMP:20260420T051018
CREATED:20250307T173134Z
LAST-MODIFIED:20250520T191422Z
UID:2398-1753610400-1753614900@christpresauburn.org
SUMMARY:Worship Service at 10:00am
DESCRIPTION:We will worship today in one service at 10:00am.
URL:https://christpresauburn.org/featured-event/1-worship-service-at-1000am-3/2025-07-27/
END:VEVENT
BEGIN:VEVENT
DTSTART;TZID=America/Chicago:20250724T180000
DTEND;TZID=America/Chicago:20250724T200000
DTSTAMP:20260420T051018
CREATED:20250520T193025Z
LAST-MODIFIED:20250814T175301Z
UID:2493-1753380000-1753387200@christpresauburn.org
SUMMARY:Young Adults Dinner and Discussion
DESCRIPTION:Young adult guys and girls\, join us on Thursdays this summer at the Shidelers’ home (1818 Shadow Bend)  for dinner and discussion of “Made for People” by Justin Whitmel Earley. If you need a copy of the book\, please either pay Josh directly or send $12 via Venmo to the church.
URL:https://christpresauburn.org/featured-event/young-adults-dinner-and-discussion/2025-07-24/
END:VEVENT
BEGIN:VEVENT
DTSTART;TZID=America/Chicago:20250723T183000
DTEND;TZID=America/Chicago:20250723T200000
DTSTAMP:20260420T051018
CREATED:20250515T142533Z
LAST-MODIFIED:20250515T143341Z
UID:2482-1753295400-1753300800@christpresauburn.org
SUMMARY:Ladies Summer Bible Study
DESCRIPTION:Ladies\, join us this summer on Wednesdays as we study the Psalms together. \nJuly 23 – Psalm 103 Led by Betty Thomas at Mary Alderman’s home (1842 Creekwood Trail).
URL:https://christpresauburn.org/featured-event/ladies-summer-bible-study-8-2025-07-23/
END:VEVENT
BEGIN:VEVENT
DTSTART;TZID=America/Chicago:20250723T180000
DTEND;TZID=America/Chicago:20250723T200000
DTSTAMP:20260420T051018
CREATED:20250606T185502Z
LAST-MODIFIED:20250725T153748Z
UID:2529-1753293600-1753300800@christpresauburn.org
SUMMARY:Youth Wednesday Night Fellowship
DESCRIPTION:On Wednesday nights this summer we’ll gather to study Sanctification. We’ll eat\, play a game\, then have a lesson and some small group time. This week we’ll meet at the Old Moores Mill green space. Hope to see everyone there!
URL:https://christpresauburn.org/featured-event/youth-wednesday-night-fellowship-5/
END:VEVENT
END:VCALENDAR