BEGIN:VCALENDAR
VERSION:2.0
PRODID:-//Christ Presbyterian Church of Auburn, PCA - ECPv6.7.0//NONSGML v1.0//EN
CALSCALE:GREGORIAN
METHOD:PUBLISH
X-WR-CALNAME:Christ Presbyterian Church of Auburn, PCA
X-ORIGINAL-URL:https://christpresauburn.org
X-WR-CALDESC:Events for Christ Presbyterian Church of Auburn, PCA
REFRESH-INTERVAL;VALUE=DURATION:PT1H
X-Robots-Tag:noindex
X-PUBLISHED-TTL:PT1H
BEGIN:VTIMEZONE
TZID:America/Chicago
BEGIN:DAYLIGHT
TZOFFSETFROM:-0600
TZOFFSETTO:-0500
TZNAME:CDT
DTSTART:20250309T080000
END:DAYLIGHT
BEGIN:STANDARD
TZOFFSETFROM:-0500
TZOFFSETTO:-0600
TZNAME:CST
DTSTART:20251102T070000
END:STANDARD
END:VTIMEZONE
BEGIN:VEVENT
DTSTART;TZID=America/Chicago:20250722T060000
DTEND;TZID=America/Chicago:20250722T070000
DTSTAMP:20260421T174139
CREATED:20250214T202051Z
LAST-MODIFIED:20250214T202051Z
UID:2605-1753164000-1753167600@christpresauburn.org
SUMMARY:Men's Small Group
DESCRIPTION:At Steve Brown’s home (2067 Lamb Lane). Please let Steve know (229-387-1786) if you’re coming so that you’re included in the number for breakfast.
URL:https://christpresauburn.org/featured-event/mens-small-group-3/2025-07-22/
END:VEVENT
BEGIN:VEVENT
DTSTART;TZID=America/Chicago:20250721T190000
DTEND;TZID=America/Chicago:20250721T203000
DTSTAMP:20260421T174139
CREATED:20250515T135830Z
LAST-MODIFIED:20250515T135830Z
UID:2453-1753124400-1753129800@christpresauburn.org
SUMMARY:College Girls Summer Bible Study
DESCRIPTION:College girls\, join us at the Trammells’ house (659 Woody Dr.). Blair Dickson and Susie Trammell will lead an in-depth study of Isaiah 55. Contact Blair (205-520-6550) or Susie (706-332-0223) for more information.
URL:https://christpresauburn.org/featured-event/college-girls-summer-bible-study-2/2025-07-21/
END:VEVENT
BEGIN:VEVENT
DTSTART;TZID=America/Chicago:20250721T180000
DTEND;TZID=America/Chicago:20250721T200000
DTSTAMP:20260421T174139
CREATED:20250515T140118Z
LAST-MODIFIED:20250515T140308Z
UID:2464-1753120800-1753128000@christpresauburn.org
SUMMARY:College Guys Summer Basketball
DESCRIPTION:Guys\, if you’re interested in joining us for fellowship and basketball this summer\, text Caleb Gaunce (270-564-2507) and he’ll add you to the GroupMe.
URL:https://christpresauburn.org/featured-event/college-guys-summer-basketball/2025-07-21/
END:VEVENT
BEGIN:VEVENT
DTSTART;TZID=America/Chicago:20250721T100000
DTEND;TZID=America/Chicago:20250721T110000
DTSTAMP:20260421T174139
CREATED:20250606T183238Z
LAST-MODIFIED:20250606T190345Z
UID:2518-1753092000-1753095600@christpresauburn.org
SUMMARY:Youth Girls Summer Bible Study
DESCRIPTION:Girls\, come for Bible Study with Blair and Lily at different locations each week. This week we’ll meet at Big Blue Bagel (120 N. College St.) Contact Lily Sullivan (334-707-0377) with questions.
URL:https://christpresauburn.org/featured-event/youth-girls-summer-bible-study-2025-07-21/
END:VEVENT
BEGIN:VEVENT
DTSTART;TZID=America/Chicago:20250720T183000
DTEND;TZID=America/Chicago:20250720T200000
DTSTAMP:20260421T174139
CREATED:20250520T193152Z
LAST-MODIFIED:20250520T193152Z
UID:2499-1753036200-1753041600@christpresauburn.org
SUMMARY:Digging Deeper
DESCRIPTION:Mark your calendars for Summer Digging Deeper groups. More information coming soon!
URL:https://christpresauburn.org/featured-event/digging-deeper-5/2025-07-20/
END:VEVENT
BEGIN:VEVENT
DTSTART;TZID=America/Chicago:20250720T180000
DTEND;TZID=America/Chicago:20250720T200000
DTSTAMP:20260421T174139
CREATED:20250515T141741Z
LAST-MODIFIED:20250515T141741Z
UID:2473-1753034400-1753041600@christpresauburn.org
SUMMARY:College Summer Fellowship
DESCRIPTION:College students\, plan to join us on Sunday nights beginning June 1st for dinner\, hanging out and an intentional discussion time. Be watching for more details!
URL:https://christpresauburn.org/featured-event/college-summer-fellowship/2025-07-20/
END:VEVENT
BEGIN:VEVENT
DTSTART;TZID=America/Chicago:20250720T180000
DTEND;TZID=America/Chicago:20250720T193000
DTSTAMP:20260421T174139
CREATED:20250606T182534Z
LAST-MODIFIED:20250606T182534Z
UID:2510-1753034400-1753039800@christpresauburn.org
SUMMARY:Summer Digging Deeper
DESCRIPTION:We’ll gather at the Alumni Center for fellowship and discussion of that morning’s sermon in small groups. Childcare will be provided. RSVP to Mackenzie Shideler (662-295-0874) to secure a spot for your children. Hope to see everyone there!
URL:https://christpresauburn.org/featured-event/summer-digging-deeper/2025-07-20/
END:VEVENT
BEGIN:VEVENT
DTSTART;TZID=America/Chicago:20250720T100000
DTEND;TZID=America/Chicago:20250720T111500
DTSTAMP:20260421T174139
CREATED:20250307T173134Z
LAST-MODIFIED:20250520T191419Z
UID:2397-1753005600-1753010100@christpresauburn.org
SUMMARY:Worship Service at 10:00am
DESCRIPTION:We will worship today in one service at 10:00am.
URL:https://christpresauburn.org/featured-event/1-worship-service-at-1000am-3/2025-07-20/
END:VEVENT
BEGIN:VEVENT
DTSTART;TZID=America/Chicago:20250718T150000
DTEND;TZID=America/Chicago:20250718T230000
DTSTAMP:20260421T174139
CREATED:20250606T184355Z
LAST-MODIFIED:20250606T184355Z
UID:2524-1752850800-1752879600@christpresauburn.org
SUMMARY:College to Braves Game
DESCRIPTION:College students\, come with us to Atlanta for the evening to watch the Braves play the Yankees! Contact Caleb (270-564-2507) or Blair (205-520-6550) for more information.
URL:https://christpresauburn.org/featured-event/college-to-braves-game/
END:VEVENT
BEGIN:VEVENT
DTSTART;TZID=America/Chicago:20250717T180000
DTEND;TZID=America/Chicago:20250717T200000
DTSTAMP:20260421T174139
CREATED:20250520T193025Z
LAST-MODIFIED:20250814T175301Z
UID:2492-1752775200-1752782400@christpresauburn.org
SUMMARY:Young Adults Dinner and Discussion
DESCRIPTION:Young adult guys and girls\, join us on Thursdays this summer at the Shidelers’ home (1818 Shadow Bend)  for dinner and discussion of “Made for People” by Justin Whitmel Earley. If you need a copy of the book\, please either pay Josh directly or send $12 via Venmo to the church.
URL:https://christpresauburn.org/featured-event/young-adults-dinner-and-discussion/2025-07-17/
END:VEVENT
BEGIN:VEVENT
DTSTART;TZID=America/Chicago:20250716T183000
DTEND;TZID=America/Chicago:20250716T200000
DTSTAMP:20260421T174139
CREATED:20250515T142533Z
LAST-MODIFIED:20250515T143245Z
UID:2481-1752690600-1752696000@christpresauburn.org
SUMMARY:Ladies Summer Bible Study
DESCRIPTION:Ladies\, join us this summer on Wednesdays as we study the Psalms together. \nJune 16 – Psalm 34 Led by Lisa Spence at Marilyn Bopp’s home (325 Barksdale Ln.).
URL:https://christpresauburn.org/featured-event/ladies-summer-bible-study-8-2025-07-16/
END:VEVENT
BEGIN:VEVENT
DTSTART;TZID=America/Chicago:20250716T180000
DTEND;TZID=America/Chicago:20250716T200000
DTSTAMP:20260421T174139
CREATED:20250606T185321Z
LAST-MODIFIED:20250606T185321Z
UID:2528-1752688800-1752696000@christpresauburn.org
SUMMARY:Youth Wednesday Night Fellowship
DESCRIPTION:On Wednesday nights this summer we’ll gather to study Sanctification. This week we’ll be at the Hestons’ house (1750 Altamont Ct.). We’ll eat\, play a game\, then have a lesson and some small group time. Hope to see everyone there!
URL:https://christpresauburn.org/featured-event/youth-wednesday-night-fellowship-4/
END:VEVENT
BEGIN:VEVENT
DTSTART;TZID=America/Chicago:20250716T063000
DTEND;TZID=America/Chicago:20250716T073000
DTSTAMP:20260421T174139
CREATED:20250214T202214Z
LAST-MODIFIED:20250214T202214Z
UID:2575-1752647400-1752651000@christpresauburn.org
SUMMARY:Men's Small Group
DESCRIPTION:At Chappy’s Deli (754 E. Glenn Ave.). Contact Stephen Wadsworth for more information at 205-520-6723.
URL:https://christpresauburn.org/featured-event/mens-small-group-4/2025-07-16/
END:VEVENT
BEGIN:VEVENT
DTSTART;TZID=America/Chicago:20250715T060000
DTEND;TZID=America/Chicago:20250715T070000
DTSTAMP:20260421T174139
CREATED:20250214T202051Z
LAST-MODIFIED:20250214T202051Z
UID:2604-1752559200-1752562800@christpresauburn.org
SUMMARY:Men's Small Group
DESCRIPTION:At Steve Brown’s home (2067 Lamb Lane). Please let Steve know (229-387-1786) if you’re coming so that you’re included in the number for breakfast.
URL:https://christpresauburn.org/featured-event/mens-small-group-3/2025-07-15/
END:VEVENT
BEGIN:VEVENT
DTSTART;TZID=America/Chicago:20250714T190000
DTEND;TZID=America/Chicago:20250714T203000
DTSTAMP:20260421T174139
CREATED:20250515T135830Z
LAST-MODIFIED:20250515T135830Z
UID:2452-1752519600-1752525000@christpresauburn.org
SUMMARY:College Girls Summer Bible Study
DESCRIPTION:College girls\, join us at the Trammells’ house (659 Woody Dr.). Blair Dickson and Susie Trammell will lead an in-depth study of Isaiah 55. Contact Blair (205-520-6550) or Susie (706-332-0223) for more information.
URL:https://christpresauburn.org/featured-event/college-girls-summer-bible-study-2/2025-07-14/
END:VEVENT
BEGIN:VEVENT
DTSTART;TZID=America/Chicago:20250714T180000
DTEND;TZID=America/Chicago:20250714T200000
DTSTAMP:20260421T174139
CREATED:20250515T140118Z
LAST-MODIFIED:20250515T140308Z
UID:2463-1752516000-1752523200@christpresauburn.org
SUMMARY:College Guys Summer Basketball
DESCRIPTION:Guys\, if you’re interested in joining us for fellowship and basketball this summer\, text Caleb Gaunce (270-564-2507) and he’ll add you to the GroupMe.
URL:https://christpresauburn.org/featured-event/college-guys-summer-basketball/2025-07-14/
END:VEVENT
BEGIN:VEVENT
DTSTART;TZID=America/Chicago:20250713T183000
DTEND;TZID=America/Chicago:20250713T200000
DTSTAMP:20260421T174139
CREATED:20250520T193152Z
LAST-MODIFIED:20250520T193152Z
UID:2498-1752431400-1752436800@christpresauburn.org
SUMMARY:Digging Deeper
DESCRIPTION:Mark your calendars for Summer Digging Deeper groups. More information coming soon!
URL:https://christpresauburn.org/featured-event/digging-deeper-5/2025-07-13/
END:VEVENT
BEGIN:VEVENT
DTSTART;TZID=America/Chicago:20250713T180000
DTEND;TZID=America/Chicago:20250713T200000
DTSTAMP:20260421T174139
CREATED:20250515T141741Z
LAST-MODIFIED:20250515T141741Z
UID:2472-1752429600-1752436800@christpresauburn.org
SUMMARY:College Summer Fellowship
DESCRIPTION:College students\, plan to join us on Sunday nights beginning June 1st for dinner\, hanging out and an intentional discussion time. Be watching for more details!
URL:https://christpresauburn.org/featured-event/college-summer-fellowship/2025-07-13/
END:VEVENT
BEGIN:VEVENT
DTSTART;TZID=America/Chicago:20250713T180000
DTEND;TZID=America/Chicago:20250713T193000
DTSTAMP:20260421T174139
CREATED:20250606T182534Z
LAST-MODIFIED:20250606T182534Z
UID:2509-1752429600-1752435000@christpresauburn.org
SUMMARY:Summer Digging Deeper
DESCRIPTION:We’ll gather at the Alumni Center for fellowship and discussion of that morning’s sermon in small groups. Childcare will be provided. RSVP to Mackenzie Shideler (662-295-0874) to secure a spot for your children. Hope to see everyone there!
URL:https://christpresauburn.org/featured-event/summer-digging-deeper/2025-07-13/
END:VEVENT
BEGIN:VEVENT
DTSTART;TZID=America/Chicago:20250713T100000
DTEND;TZID=America/Chicago:20250713T111500
DTSTAMP:20260421T174139
CREATED:20250307T173134Z
LAST-MODIFIED:20250520T191419Z
UID:2396-1752400800-1752405300@christpresauburn.org
SUMMARY:Worship Service at 10:00am
DESCRIPTION:We will worship today in one service at 10:00am.
URL:https://christpresauburn.org/featured-event/1-worship-service-at-1000am-3/2025-07-13/
END:VEVENT
BEGIN:VEVENT
DTSTART;TZID=America/Chicago:20250710T180000
DTEND;TZID=America/Chicago:20250710T200000
DTSTAMP:20260421T174139
CREATED:20250520T193025Z
LAST-MODIFIED:20250814T175300Z
UID:2491-1752170400-1752177600@christpresauburn.org
SUMMARY:Young Adults Dinner and Discussion
DESCRIPTION:Young adult guys and girls\, join us on Thursdays this summer at the Shidelers’ home (1818 Shadow Bend)  for dinner and discussion of “Made for People” by Justin Whitmel Earley. If you need a copy of the book\, please either pay Josh directly or send $12 via Venmo to the church.
URL:https://christpresauburn.org/featured-event/young-adults-dinner-and-discussion/2025-07-10/
END:VEVENT
BEGIN:VEVENT
DTSTART;TZID=America/Chicago:20250709T183000
DTEND;TZID=America/Chicago:20250709T200000
DTSTAMP:20260421T174139
CREATED:20250515T142533Z
LAST-MODIFIED:20250515T143147Z
UID:2480-1752085800-1752091200@christpresauburn.org
SUMMARY:Ladies Summer Bible Study
DESCRIPTION:Ladies\, join us this summer on Wednesdays as we study the Psalms together. \nJuly 9 – Psalm 73 Led by Brooke Wadsworth at Rebecca Kurth’s home (702 Banbury St.).
URL:https://christpresauburn.org/featured-event/ladies-summer-bible-study-8-2025-07-09/
END:VEVENT
BEGIN:VEVENT
DTSTART;TZID=America/Chicago:20250709T063000
DTEND;TZID=America/Chicago:20250709T073000
DTSTAMP:20260421T174139
CREATED:20250214T202214Z
LAST-MODIFIED:20250214T202214Z
UID:2574-1752042600-1752046200@christpresauburn.org
SUMMARY:Men's Small Group
DESCRIPTION:At Chappy’s Deli (754 E. Glenn Ave.). Contact Stephen Wadsworth for more information at 205-520-6723.
URL:https://christpresauburn.org/featured-event/mens-small-group-4/2025-07-09/
END:VEVENT
BEGIN:VEVENT
DTSTART;TZID=America/Chicago:20250708T080000
DTEND;TZID=America/Chicago:20250713T170000
DTSTAMP:20260421T174139
CREATED:20250606T183659Z
LAST-MODIFIED:20250606T183659Z
UID:2521-1751961600-1752426000@christpresauburn.org
SUMMARY:RYM
DESCRIPTION:Our senior high/rising college students will attend the RYM (Reformed Youth Ministries) Conference at Laguna Beach in Panama City. Please pray for their time together there this week.
URL:https://christpresauburn.org/featured-event/rym-2/
END:VEVENT
BEGIN:VEVENT
DTSTART;TZID=America/Chicago:20250708T060000
DTEND;TZID=America/Chicago:20250708T070000
DTSTAMP:20260421T174139
CREATED:20250214T202051Z
LAST-MODIFIED:20250214T202051Z
UID:2603-1751954400-1751958000@christpresauburn.org
SUMMARY:Men's Small Group
DESCRIPTION:At Steve Brown’s home (2067 Lamb Lane). Please let Steve know (229-387-1786) if you’re coming so that you’re included in the number for breakfast.
URL:https://christpresauburn.org/featured-event/mens-small-group-3/2025-07-08/
END:VEVENT
BEGIN:VEVENT
DTSTART;TZID=America/Chicago:20250707T190000
DTEND;TZID=America/Chicago:20250707T203000
DTSTAMP:20260421T174139
CREATED:20250515T135830Z
LAST-MODIFIED:20250515T135830Z
UID:2451-1751914800-1751920200@christpresauburn.org
SUMMARY:College Girls Summer Bible Study
DESCRIPTION:College girls\, join us at the Trammells’ house (659 Woody Dr.). Blair Dickson and Susie Trammell will lead an in-depth study of Isaiah 55. Contact Blair (205-520-6550) or Susie (706-332-0223) for more information.
URL:https://christpresauburn.org/featured-event/college-girls-summer-bible-study-2/2025-07-07/
END:VEVENT
BEGIN:VEVENT
DTSTART;TZID=America/Chicago:20250707T180000
DTEND;TZID=America/Chicago:20250707T200000
DTSTAMP:20260421T174139
CREATED:20250515T140118Z
LAST-MODIFIED:20250515T140308Z
UID:2462-1751911200-1751918400@christpresauburn.org
SUMMARY:College Guys Summer Basketball
DESCRIPTION:Guys\, if you’re interested in joining us for fellowship and basketball this summer\, text Caleb Gaunce (270-564-2507) and he’ll add you to the GroupMe.
URL:https://christpresauburn.org/featured-event/college-guys-summer-basketball/2025-07-07/
END:VEVENT
BEGIN:VEVENT
DTSTART;TZID=America/Chicago:20250707T100000
DTEND;TZID=America/Chicago:20250707T110000
DTSTAMP:20260421T174139
CREATED:20250606T183238Z
LAST-MODIFIED:20250606T190452Z
UID:2516-1751882400-1751886000@christpresauburn.org
SUMMARY:Youth Girls Summer Bible Study
DESCRIPTION:Girls\, come for Bible Study with Blair and Lily at different locations each week. This week we’ll meet at Blair’s house (211 Carter St.) Contact Lily Sullivan (334-707-0377) with questions.
URL:https://christpresauburn.org/featured-event/youth-girls-summer-bible-study-2025-07-07/
END:VEVENT
BEGIN:VEVENT
DTSTART;TZID=America/Chicago:20250706T183000
DTEND;TZID=America/Chicago:20250706T200000
DTSTAMP:20260421T174139
CREATED:20250520T193152Z
LAST-MODIFIED:20250520T193152Z
UID:2497-1751826600-1751832000@christpresauburn.org
SUMMARY:Digging Deeper
DESCRIPTION:Mark your calendars for Summer Digging Deeper groups. More information coming soon!
URL:https://christpresauburn.org/featured-event/digging-deeper-5/2025-07-06/
END:VEVENT
BEGIN:VEVENT
DTSTART;TZID=America/Chicago:20250706T180000
DTEND;TZID=America/Chicago:20250706T200000
DTSTAMP:20260421T174139
CREATED:20250515T141741Z
LAST-MODIFIED:20250515T141741Z
UID:2471-1751824800-1751832000@christpresauburn.org
SUMMARY:College Summer Fellowship
DESCRIPTION:College students\, plan to join us on Sunday nights beginning June 1st for dinner\, hanging out and an intentional discussion time. Be watching for more details!
URL:https://christpresauburn.org/featured-event/college-summer-fellowship/2025-07-06/
END:VEVENT
END:VCALENDAR