BEGIN:VCALENDAR
VERSION:2.0
PRODID:-//Christ Presbyterian Church of Auburn, PCA - ECPv6.7.0//NONSGML v1.0//EN
CALSCALE:GREGORIAN
METHOD:PUBLISH
X-WR-CALNAME:Christ Presbyterian Church of Auburn, PCA
X-ORIGINAL-URL:https://christpresauburn.org
X-WR-CALDESC:Events for Christ Presbyterian Church of Auburn, PCA
REFRESH-INTERVAL;VALUE=DURATION:PT1H
X-Robots-Tag:noindex
X-PUBLISHED-TTL:PT1H
BEGIN:VTIMEZONE
TZID:America/Chicago
BEGIN:DAYLIGHT
TZOFFSETFROM:-0600
TZOFFSETTO:-0500
TZNAME:CDT
DTSTART:20260308T080000
END:DAYLIGHT
BEGIN:STANDARD
TZOFFSETFROM:-0500
TZOFFSETTO:-0600
TZNAME:CST
DTSTART:20261101T070000
END:STANDARD
END:VTIMEZONE
BEGIN:VEVENT
DTSTART;TZID=America/Chicago:20260423T193000
DTEND;TZID=America/Chicago:20260423T210000
DTSTAMP:20260424T160716
CREATED:20260129T204533Z
LAST-MODIFIED:20260129T204533Z
UID:3032-1776972600-1776978000@christpresauburn.org
SUMMARY:Young Adults (20's and 30's) Small Groups
DESCRIPTION:Girls – at Emily Kaplowitz’s home (2611 Cherington Dr.). Contact Mackenzie Shideler at 662-295-0874 for details or to be added to the GroupMe.\nGuys –at the Shidelers’ (1818 Shadow Bend Lane). Contact Josh for more information at 662-209-7618.
URL:https://christpresauburn.org/featured-event/young-adults-20s-and-30s-small-groups/2026-04-23/
END:VEVENT
BEGIN:VEVENT
DTSTART;TZID=America/Chicago:20260416T193000
DTEND;TZID=America/Chicago:20260416T210000
DTSTAMP:20260424T160716
CREATED:20260129T204533Z
LAST-MODIFIED:20260129T204533Z
UID:3031-1776367800-1776373200@christpresauburn.org
SUMMARY:Young Adults (20's and 30's) Small Groups
DESCRIPTION:Girls – at Emily Kaplowitz’s home (2611 Cherington Dr.). Contact Mackenzie Shideler at 662-295-0874 for details or to be added to the GroupMe.\nGuys –at the Shidelers’ (1818 Shadow Bend Lane). Contact Josh for more information at 662-209-7618.
URL:https://christpresauburn.org/featured-event/young-adults-20s-and-30s-small-groups/2026-04-16/
END:VEVENT
BEGIN:VEVENT
DTSTART;TZID=America/Chicago:20260409T193000
DTEND;TZID=America/Chicago:20260409T210000
DTSTAMP:20260424T160716
CREATED:20260129T204533Z
LAST-MODIFIED:20260129T204533Z
UID:3030-1775763000-1775768400@christpresauburn.org
SUMMARY:Young Adults (20's and 30's) Small Groups
DESCRIPTION:Girls – at Emily Kaplowitz’s home (2611 Cherington Dr.). Contact Mackenzie Shideler at 662-295-0874 for details or to be added to the GroupMe.\nGuys –at the Shidelers’ (1818 Shadow Bend Lane). Contact Josh for more information at 662-209-7618.
URL:https://christpresauburn.org/featured-event/young-adults-20s-and-30s-small-groups/2026-04-09/
END:VEVENT
BEGIN:VEVENT
DTSTART;TZID=America/Chicago:20260402T193000
DTEND;TZID=America/Chicago:20260402T210000
DTSTAMP:20260424T160716
CREATED:20260129T204533Z
LAST-MODIFIED:20260129T204533Z
UID:3029-1775158200-1775163600@christpresauburn.org
SUMMARY:Young Adults (20's and 30's) Small Groups
DESCRIPTION:Girls – at Emily Kaplowitz’s home (2611 Cherington Dr.). Contact Mackenzie Shideler at 662-295-0874 for details or to be added to the GroupMe.\nGuys –at the Shidelers’ (1818 Shadow Bend Lane). Contact Josh for more information at 662-209-7618.
URL:https://christpresauburn.org/featured-event/young-adults-20s-and-30s-small-groups/2026-04-02/
END:VEVENT
BEGIN:VEVENT
DTSTART;TZID=America/Chicago:20260326T193000
DTEND;TZID=America/Chicago:20260326T210000
DTSTAMP:20260424T160716
CREATED:20260129T204533Z
LAST-MODIFIED:20260129T204533Z
UID:3028-1774553400-1774558800@christpresauburn.org
SUMMARY:Young Adults (20's and 30's) Small Groups
DESCRIPTION:Girls – at Emily Kaplowitz’s home (2611 Cherington Dr.). Contact Mackenzie Shideler at 662-295-0874 for details or to be added to the GroupMe.\nGuys –at the Shidelers’ (1818 Shadow Bend Lane). Contact Josh for more information at 662-209-7618.
URL:https://christpresauburn.org/featured-event/young-adults-20s-and-30s-small-groups/2026-03-26/
END:VEVENT
BEGIN:VEVENT
DTSTART;TZID=America/Chicago:20260319T193000
DTEND;TZID=America/Chicago:20260319T210000
DTSTAMP:20260424T160716
CREATED:20260129T204533Z
LAST-MODIFIED:20260129T204533Z
UID:3027-1773948600-1773954000@christpresauburn.org
SUMMARY:Young Adults (20's and 30's) Small Groups
DESCRIPTION:Girls – at Emily Kaplowitz’s home (2611 Cherington Dr.). Contact Mackenzie Shideler at 662-295-0874 for details or to be added to the GroupMe.\nGuys –at the Shidelers’ (1818 Shadow Bend Lane). Contact Josh for more information at 662-209-7618.
URL:https://christpresauburn.org/featured-event/young-adults-20s-and-30s-small-groups/2026-03-19/
END:VEVENT
BEGIN:VEVENT
DTSTART;TZID=America/Chicago:20260305T193000
DTEND;TZID=America/Chicago:20260305T210000
DTSTAMP:20260424T160716
CREATED:20260129T204533Z
LAST-MODIFIED:20260129T204533Z
UID:3026-1772739000-1772744400@christpresauburn.org
SUMMARY:Young Adults (20's and 30's) Small Groups
DESCRIPTION:Girls – at Emily Kaplowitz’s home (2611 Cherington Dr.). Contact Mackenzie Shideler at 662-295-0874 for details or to be added to the GroupMe.\nGuys –at the Shidelers’ (1818 Shadow Bend Lane). Contact Josh for more information at 662-209-7618.
URL:https://christpresauburn.org/featured-event/young-adults-20s-and-30s-small-groups/2026-03-05/
END:VEVENT
BEGIN:VEVENT
DTSTART;TZID=America/Chicago:20260226T193000
DTEND;TZID=America/Chicago:20260226T210000
DTSTAMP:20260424T160716
CREATED:20260129T204533Z
LAST-MODIFIED:20260129T204533Z
UID:3025-1772134200-1772139600@christpresauburn.org
SUMMARY:Young Adults (20's and 30's) Small Groups
DESCRIPTION:Girls – at Emily Kaplowitz’s home (2611 Cherington Dr.). Contact Mackenzie Shideler at 662-295-0874 for details or to be added to the GroupMe.\nGuys –at the Shidelers’ (1818 Shadow Bend Lane). Contact Josh for more information at 662-209-7618.
URL:https://christpresauburn.org/featured-event/young-adults-20s-and-30s-small-groups/2026-02-26/
END:VEVENT
BEGIN:VEVENT
DTSTART;TZID=America/Chicago:20260219T193000
DTEND;TZID=America/Chicago:20260219T210000
DTSTAMP:20260424T160716
CREATED:20260129T204533Z
LAST-MODIFIED:20260129T204533Z
UID:3024-1771529400-1771534800@christpresauburn.org
SUMMARY:Young Adults (20's and 30's) Small Groups
DESCRIPTION:Girls – at Emily Kaplowitz’s home (2611 Cherington Dr.). Contact Mackenzie Shideler at 662-295-0874 for details or to be added to the GroupMe.\nGuys –at the Shidelers’ (1818 Shadow Bend Lane). Contact Josh for more information at 662-209-7618.
URL:https://christpresauburn.org/featured-event/young-adults-20s-and-30s-small-groups/2026-02-19/
END:VEVENT
BEGIN:VEVENT
DTSTART;TZID=America/Chicago:20260212T193000
DTEND;TZID=America/Chicago:20260212T210000
DTSTAMP:20260424T160716
CREATED:20260129T204533Z
LAST-MODIFIED:20260129T204533Z
UID:3023-1770924600-1770930000@christpresauburn.org
SUMMARY:Young Adults (20's and 30's) Small Groups
DESCRIPTION:Girls – at Emily Kaplowitz’s home (2611 Cherington Dr.). Contact Mackenzie Shideler at 662-295-0874 for details or to be added to the GroupMe.\nGuys –at the Shidelers’ (1818 Shadow Bend Lane). Contact Josh for more information at 662-209-7618.
URL:https://christpresauburn.org/featured-event/young-adults-20s-and-30s-small-groups/2026-02-12/
END:VEVENT
BEGIN:VEVENT
DTSTART;TZID=America/Chicago:20260205T193000
DTEND;TZID=America/Chicago:20260205T210000
DTSTAMP:20260424T160716
CREATED:20260129T204533Z
LAST-MODIFIED:20260129T204533Z
UID:3022-1770319800-1770325200@christpresauburn.org
SUMMARY:Young Adults (20's and 30's) Small Groups
DESCRIPTION:Girls – at Emily Kaplowitz’s home (2611 Cherington Dr.). Contact Mackenzie Shideler at 662-295-0874 for details or to be added to the GroupMe.\nGuys –at the Shidelers’ (1818 Shadow Bend Lane). Contact Josh for more information at 662-209-7618.
URL:https://christpresauburn.org/featured-event/young-adults-20s-and-30s-small-groups/2026-02-05/
END:VEVENT
BEGIN:VEVENT
DTSTART;TZID=America/Chicago:20260129T193000
DTEND;TZID=America/Chicago:20260129T210000
DTSTAMP:20260424T160716
CREATED:20260129T204533Z
LAST-MODIFIED:20260129T204533Z
UID:3021-1769715000-1769720400@christpresauburn.org
SUMMARY:Young Adults (20's and 30's) Small Groups
DESCRIPTION:Girls – at Emily Kaplowitz’s home (2611 Cherington Dr.). Contact Mackenzie Shideler at 662-295-0874 for details or to be added to the GroupMe.\nGuys –at the Shidelers’ (1818 Shadow Bend Lane). Contact Josh for more information at 662-209-7618.
URL:https://christpresauburn.org/featured-event/young-adults-20s-and-30s-small-groups/2026-01-29/
END:VEVENT
BEGIN:VEVENT
DTSTART;TZID=America/Chicago:20260122T193000
DTEND;TZID=America/Chicago:20260122T210000
DTSTAMP:20260424T160716
CREATED:20260129T204533Z
LAST-MODIFIED:20260129T204533Z
UID:3020-1769110200-1769115600@christpresauburn.org
SUMMARY:Young Adults (20's and 30's) Small Groups
DESCRIPTION:Girls – at Emily Kaplowitz’s home (2611 Cherington Dr.). Contact Mackenzie Shideler at 662-295-0874 for details or to be added to the GroupMe.\nGuys –at the Shidelers’ (1818 Shadow Bend Lane). Contact Josh for more information at 662-209-7618.
URL:https://christpresauburn.org/featured-event/young-adults-20s-and-30s-small-groups/2026-01-22/
END:VEVENT
END:VCALENDAR