BEGIN:VCALENDAR
VERSION:2.0
PRODID:-//Christ Presbyterian Church of Auburn, PCA - ECPv6.7.0//NONSGML v1.0//EN
CALSCALE:GREGORIAN
METHOD:PUBLISH
X-WR-CALNAME:Christ Presbyterian Church of Auburn, PCA
X-ORIGINAL-URL:https://christpresauburn.org
X-WR-CALDESC:Events for Christ Presbyterian Church of Auburn, PCA
REFRESH-INTERVAL;VALUE=DURATION:PT1H
X-Robots-Tag:noindex
X-PUBLISHED-TTL:PT1H
BEGIN:VTIMEZONE
TZID:America/Chicago
BEGIN:DAYLIGHT
TZOFFSETFROM:-0600
TZOFFSETTO:-0500
TZNAME:CDT
DTSTART:20240310T080000
END:DAYLIGHT
BEGIN:STANDARD
TZOFFSETFROM:-0500
TZOFFSETTO:-0600
TZNAME:CST
DTSTART:20241103T070000
END:STANDARD
END:VTIMEZONE
BEGIN:VEVENT
DTSTART;TZID=America/Chicago:20241217T060000
DTEND;TZID=America/Chicago:20241217T070000
DTSTAMP:20260422T092857
CREATED:20240912T024234Z
LAST-MODIFIED:20240912T024234Z
UID:2002-1734415200-1734418800@christpresauburn.org
SUMMARY:Men's Small Group
DESCRIPTION:Men\, we have two opportunities for you to gather weekly with other men in the church. \n\nTuesdays\, 6:00-7:00am at Steve Brown’s home (2067 Lamb Lane). Please let Steve know (229-387-1786) if you’re coming so that you’re included in the number for breakfast.\n\n  \n\nWednesdays\, 6:30-7:30am at Chappy’s Deli (754 E. Glenn Ave.). Contact Stephen Wadsworth for more information at 205-520-6723.
URL:https://christpresauburn.org/featured-event/mens-small-group/2024-12-17/
END:VEVENT
BEGIN:VEVENT
DTSTART;TZID=America/Chicago:20241210T060000
DTEND;TZID=America/Chicago:20241210T070000
DTSTAMP:20260422T092857
CREATED:20240912T024234Z
LAST-MODIFIED:20240912T024234Z
UID:2001-1733810400-1733814000@christpresauburn.org
SUMMARY:Men's Small Group
DESCRIPTION:Men\, we have two opportunities for you to gather weekly with other men in the church. \n\nTuesdays\, 6:00-7:00am at Steve Brown’s home (2067 Lamb Lane). Please let Steve know (229-387-1786) if you’re coming so that you’re included in the number for breakfast.\n\n  \n\nWednesdays\, 6:30-7:30am at Chappy’s Deli (754 E. Glenn Ave.). Contact Stephen Wadsworth for more information at 205-520-6723.
URL:https://christpresauburn.org/featured-event/mens-small-group/2024-12-10/
END:VEVENT
BEGIN:VEVENT
DTSTART;TZID=America/Chicago:20241203T060000
DTEND;TZID=America/Chicago:20241203T070000
DTSTAMP:20260422T092857
CREATED:20240912T024234Z
LAST-MODIFIED:20240912T024234Z
UID:2000-1733205600-1733209200@christpresauburn.org
SUMMARY:Men's Small Group
DESCRIPTION:Men\, we have two opportunities for you to gather weekly with other men in the church. \n\nTuesdays\, 6:00-7:00am at Steve Brown’s home (2067 Lamb Lane). Please let Steve know (229-387-1786) if you’re coming so that you’re included in the number for breakfast.\n\n  \n\nWednesdays\, 6:30-7:30am at Chappy’s Deli (754 E. Glenn Ave.). Contact Stephen Wadsworth for more information at 205-520-6723.
URL:https://christpresauburn.org/featured-event/mens-small-group/2024-12-03/
END:VEVENT
BEGIN:VEVENT
DTSTART;TZID=America/Chicago:20241126T060000
DTEND;TZID=America/Chicago:20241126T070000
DTSTAMP:20260422T092857
CREATED:20240912T024234Z
LAST-MODIFIED:20240912T024234Z
UID:1999-1732600800-1732604400@christpresauburn.org
SUMMARY:Men's Small Group
DESCRIPTION:Men\, we have two opportunities for you to gather weekly with other men in the church. \n\nTuesdays\, 6:00-7:00am at Steve Brown’s home (2067 Lamb Lane). Please let Steve know (229-387-1786) if you’re coming so that you’re included in the number for breakfast.\n\n  \n\nWednesdays\, 6:30-7:30am at Chappy’s Deli (754 E. Glenn Ave.). Contact Stephen Wadsworth for more information at 205-520-6723.
URL:https://christpresauburn.org/featured-event/mens-small-group/2024-11-26/
END:VEVENT
BEGIN:VEVENT
DTSTART;TZID=America/Chicago:20241119T060000
DTEND;TZID=America/Chicago:20241119T070000
DTSTAMP:20260422T092857
CREATED:20240912T024234Z
LAST-MODIFIED:20240912T024234Z
UID:1998-1731996000-1731999600@christpresauburn.org
SUMMARY:Men's Small Group
DESCRIPTION:Men\, we have two opportunities for you to gather weekly with other men in the church. \n\nTuesdays\, 6:00-7:00am at Steve Brown’s home (2067 Lamb Lane). Please let Steve know (229-387-1786) if you’re coming so that you’re included in the number for breakfast.\n\n  \n\nWednesdays\, 6:30-7:30am at Chappy’s Deli (754 E. Glenn Ave.). Contact Stephen Wadsworth for more information at 205-520-6723.
URL:https://christpresauburn.org/featured-event/mens-small-group/2024-11-19/
END:VEVENT
BEGIN:VEVENT
DTSTART;TZID=America/Chicago:20241112T060000
DTEND;TZID=America/Chicago:20241112T070000
DTSTAMP:20260422T092857
CREATED:20240912T024234Z
LAST-MODIFIED:20240912T024234Z
UID:1997-1731391200-1731394800@christpresauburn.org
SUMMARY:Men's Small Group
DESCRIPTION:Men\, we have two opportunities for you to gather weekly with other men in the church. \n\nTuesdays\, 6:00-7:00am at Steve Brown’s home (2067 Lamb Lane). Please let Steve know (229-387-1786) if you’re coming so that you’re included in the number for breakfast.\n\n  \n\nWednesdays\, 6:30-7:30am at Chappy’s Deli (754 E. Glenn Ave.). Contact Stephen Wadsworth for more information at 205-520-6723.
URL:https://christpresauburn.org/featured-event/mens-small-group/2024-11-12/
END:VEVENT
BEGIN:VEVENT
DTSTART;TZID=America/Chicago:20241105T060000
DTEND;TZID=America/Chicago:20241105T070000
DTSTAMP:20260422T092857
CREATED:20240912T024234Z
LAST-MODIFIED:20240912T024234Z
UID:1996-1730786400-1730790000@christpresauburn.org
SUMMARY:Men's Small Group
DESCRIPTION:Men\, we have two opportunities for you to gather weekly with other men in the church. \n\nTuesdays\, 6:00-7:00am at Steve Brown’s home (2067 Lamb Lane). Please let Steve know (229-387-1786) if you’re coming so that you’re included in the number for breakfast.\n\n  \n\nWednesdays\, 6:30-7:30am at Chappy’s Deli (754 E. Glenn Ave.). Contact Stephen Wadsworth for more information at 205-520-6723.
URL:https://christpresauburn.org/featured-event/mens-small-group/2024-11-05/
END:VEVENT
BEGIN:VEVENT
DTSTART;TZID=America/Chicago:20241029T060000
DTEND;TZID=America/Chicago:20241029T070000
DTSTAMP:20260422T092857
CREATED:20240912T024234Z
LAST-MODIFIED:20240912T024234Z
UID:1995-1730181600-1730185200@christpresauburn.org
SUMMARY:Men's Small Group
DESCRIPTION:Men\, we have two opportunities for you to gather weekly with other men in the church. \n\nTuesdays\, 6:00-7:00am at Steve Brown’s home (2067 Lamb Lane). Please let Steve know (229-387-1786) if you’re coming so that you’re included in the number for breakfast.\n\n  \n\nWednesdays\, 6:30-7:30am at Chappy’s Deli (754 E. Glenn Ave.). Contact Stephen Wadsworth for more information at 205-520-6723.
URL:https://christpresauburn.org/featured-event/mens-small-group/2024-10-29/
END:VEVENT
BEGIN:VEVENT
DTSTART;TZID=America/Chicago:20241022T060000
DTEND;TZID=America/Chicago:20241022T070000
DTSTAMP:20260422T092857
CREATED:20240912T024234Z
LAST-MODIFIED:20240912T024234Z
UID:1994-1729576800-1729580400@christpresauburn.org
SUMMARY:Men's Small Group
DESCRIPTION:Men\, we have two opportunities for you to gather weekly with other men in the church. \n\nTuesdays\, 6:00-7:00am at Steve Brown’s home (2067 Lamb Lane). Please let Steve know (229-387-1786) if you’re coming so that you’re included in the number for breakfast.\n\n  \n\nWednesdays\, 6:30-7:30am at Chappy’s Deli (754 E. Glenn Ave.). Contact Stephen Wadsworth for more information at 205-520-6723.
URL:https://christpresauburn.org/featured-event/mens-small-group/2024-10-22/
END:VEVENT
BEGIN:VEVENT
DTSTART;TZID=America/Chicago:20241015T060000
DTEND;TZID=America/Chicago:20241015T070000
DTSTAMP:20260422T092857
CREATED:20240912T024234Z
LAST-MODIFIED:20240912T024234Z
UID:1993-1728972000-1728975600@christpresauburn.org
SUMMARY:Men's Small Group
DESCRIPTION:Men\, we have two opportunities for you to gather weekly with other men in the church. \n\nTuesdays\, 6:00-7:00am at Steve Brown’s home (2067 Lamb Lane). Please let Steve know (229-387-1786) if you’re coming so that you’re included in the number for breakfast.\n\n  \n\nWednesdays\, 6:30-7:30am at Chappy’s Deli (754 E. Glenn Ave.). Contact Stephen Wadsworth for more information at 205-520-6723.
URL:https://christpresauburn.org/featured-event/mens-small-group/2024-10-15/
END:VEVENT
BEGIN:VEVENT
DTSTART;TZID=America/Chicago:20241008T060000
DTEND;TZID=America/Chicago:20241008T070000
DTSTAMP:20260422T092857
CREATED:20240912T024234Z
LAST-MODIFIED:20240912T024234Z
UID:1992-1728367200-1728370800@christpresauburn.org
SUMMARY:Men's Small Group
DESCRIPTION:Men\, we have two opportunities for you to gather weekly with other men in the church. \n\nTuesdays\, 6:00-7:00am at Steve Brown’s home (2067 Lamb Lane). Please let Steve know (229-387-1786) if you’re coming so that you’re included in the number for breakfast.\n\n  \n\nWednesdays\, 6:30-7:30am at Chappy’s Deli (754 E. Glenn Ave.). Contact Stephen Wadsworth for more information at 205-520-6723.
URL:https://christpresauburn.org/featured-event/mens-small-group/2024-10-08/
END:VEVENT
BEGIN:VEVENT
DTSTART;TZID=America/Chicago:20241001T060000
DTEND;TZID=America/Chicago:20241001T070000
DTSTAMP:20260422T092857
CREATED:20240912T024234Z
LAST-MODIFIED:20240912T024234Z
UID:1991-1727762400-1727766000@christpresauburn.org
SUMMARY:Men's Small Group
DESCRIPTION:Men\, we have two opportunities for you to gather weekly with other men in the church. \n\nTuesdays\, 6:00-7:00am at Steve Brown’s home (2067 Lamb Lane). Please let Steve know (229-387-1786) if you’re coming so that you’re included in the number for breakfast.\n\n  \n\nWednesdays\, 6:30-7:30am at Chappy’s Deli (754 E. Glenn Ave.). Contact Stephen Wadsworth for more information at 205-520-6723.
URL:https://christpresauburn.org/featured-event/mens-small-group/2024-10-01/
END:VEVENT
BEGIN:VEVENT
DTSTART;TZID=America/Chicago:20240924T060000
DTEND;TZID=America/Chicago:20240924T070000
DTSTAMP:20260422T092857
CREATED:20240912T024234Z
LAST-MODIFIED:20240912T024234Z
UID:1990-1727157600-1727161200@christpresauburn.org
SUMMARY:Men's Small Group
DESCRIPTION:Men\, we have two opportunities for you to gather weekly with other men in the church. \n\nTuesdays\, 6:00-7:00am at Steve Brown’s home (2067 Lamb Lane). Please let Steve know (229-387-1786) if you’re coming so that you’re included in the number for breakfast.\n\n  \n\nWednesdays\, 6:30-7:30am at Chappy’s Deli (754 E. Glenn Ave.). Contact Stephen Wadsworth for more information at 205-520-6723.
URL:https://christpresauburn.org/featured-event/mens-small-group/2024-09-24/
END:VEVENT
BEGIN:VEVENT
DTSTART;TZID=America/Chicago:20240917T060000
DTEND;TZID=America/Chicago:20240917T070000
DTSTAMP:20260422T092857
CREATED:20240912T024234Z
LAST-MODIFIED:20240912T024234Z
UID:1989-1726552800-1726556400@christpresauburn.org
SUMMARY:Men's Small Group
DESCRIPTION:Men\, we have two opportunities for you to gather weekly with other men in the church. \n\nTuesdays\, 6:00-7:00am at Steve Brown’s home (2067 Lamb Lane). Please let Steve know (229-387-1786) if you’re coming so that you’re included in the number for breakfast.\n\n  \n\nWednesdays\, 6:30-7:30am at Chappy’s Deli (754 E. Glenn Ave.). Contact Stephen Wadsworth for more information at 205-520-6723.
URL:https://christpresauburn.org/featured-event/mens-small-group/2024-09-17/
END:VEVENT
BEGIN:VEVENT
DTSTART;TZID=America/Chicago:20240910T060000
DTEND;TZID=America/Chicago:20240910T070000
DTSTAMP:20260422T092857
CREATED:20240912T024234Z
LAST-MODIFIED:20240912T024234Z
UID:1988-1725948000-1725951600@christpresauburn.org
SUMMARY:Men's Small Group
DESCRIPTION:Men\, we have two opportunities for you to gather weekly with other men in the church. \n\nTuesdays\, 6:00-7:00am at Steve Brown’s home (2067 Lamb Lane). Please let Steve know (229-387-1786) if you’re coming so that you’re included in the number for breakfast.\n\n  \n\nWednesdays\, 6:30-7:30am at Chappy’s Deli (754 E. Glenn Ave.). Contact Stephen Wadsworth for more information at 205-520-6723.
URL:https://christpresauburn.org/featured-event/mens-small-group/2024-09-10/
END:VEVENT
BEGIN:VEVENT
DTSTART;TZID=America/Chicago:20240903T060000
DTEND;TZID=America/Chicago:20240903T070000
DTSTAMP:20260422T092857
CREATED:20240912T024234Z
LAST-MODIFIED:20240912T024234Z
UID:1987-1725343200-1725346800@christpresauburn.org
SUMMARY:Men's Small Group
DESCRIPTION:Men\, we have two opportunities for you to gather weekly with other men in the church. \n\nTuesdays\, 6:00-7:00am at Steve Brown’s home (2067 Lamb Lane). Please let Steve know (229-387-1786) if you’re coming so that you’re included in the number for breakfast.\n\n  \n\nWednesdays\, 6:30-7:30am at Chappy’s Deli (754 E. Glenn Ave.). Contact Stephen Wadsworth for more information at 205-520-6723.
URL:https://christpresauburn.org/featured-event/mens-small-group/2024-09-03/
END:VEVENT
BEGIN:VEVENT
DTSTART;TZID=America/Chicago:20240827T060000
DTEND;TZID=America/Chicago:20240827T070000
DTSTAMP:20260422T092857
CREATED:20240912T024234Z
LAST-MODIFIED:20240912T024234Z
UID:1986-1724738400-1724742000@christpresauburn.org
SUMMARY:Men's Small Group
DESCRIPTION:Men\, we have two opportunities for you to gather weekly with other men in the church. \n\nTuesdays\, 6:00-7:00am at Steve Brown’s home (2067 Lamb Lane). Please let Steve know (229-387-1786) if you’re coming so that you’re included in the number for breakfast.\n\n  \n\nWednesdays\, 6:30-7:30am at Chappy’s Deli (754 E. Glenn Ave.). Contact Stephen Wadsworth for more information at 205-520-6723.
URL:https://christpresauburn.org/featured-event/mens-small-group/2024-08-27/
END:VEVENT
BEGIN:VEVENT
DTSTART;TZID=America/Chicago:20240820T060000
DTEND;TZID=America/Chicago:20240820T070000
DTSTAMP:20260422T092857
CREATED:20240912T024234Z
LAST-MODIFIED:20240912T024234Z
UID:1985-1724133600-1724137200@christpresauburn.org
SUMMARY:Men's Small Group
DESCRIPTION:Men\, we have two opportunities for you to gather weekly with other men in the church. \n\nTuesdays\, 6:00-7:00am at Steve Brown’s home (2067 Lamb Lane). Please let Steve know (229-387-1786) if you’re coming so that you’re included in the number for breakfast.\n\n  \n\nWednesdays\, 6:30-7:30am at Chappy’s Deli (754 E. Glenn Ave.). Contact Stephen Wadsworth for more information at 205-520-6723.
URL:https://christpresauburn.org/featured-event/mens-small-group/2024-08-20/
END:VEVENT
BEGIN:VEVENT
DTSTART;TZID=America/Chicago:20240813T060000
DTEND;TZID=America/Chicago:20240813T070000
DTSTAMP:20260422T092857
CREATED:20240912T024234Z
LAST-MODIFIED:20240912T024234Z
UID:1984-1723528800-1723532400@christpresauburn.org
SUMMARY:Men's Small Group
DESCRIPTION:Men\, we have two opportunities for you to gather weekly with other men in the church. \n\nTuesdays\, 6:00-7:00am at Steve Brown’s home (2067 Lamb Lane). Please let Steve know (229-387-1786) if you’re coming so that you’re included in the number for breakfast.\n\n  \n\nWednesdays\, 6:30-7:30am at Chappy’s Deli (754 E. Glenn Ave.). Contact Stephen Wadsworth for more information at 205-520-6723.
URL:https://christpresauburn.org/featured-event/mens-small-group/2024-08-13/
END:VEVENT
BEGIN:VEVENT
DTSTART;TZID=America/Chicago:20240806T060000
DTEND;TZID=America/Chicago:20240806T070000
DTSTAMP:20260422T092857
CREATED:20240912T024234Z
LAST-MODIFIED:20240912T024234Z
UID:1983-1722924000-1722927600@christpresauburn.org
SUMMARY:Men's Small Group
DESCRIPTION:Men\, we have two opportunities for you to gather weekly with other men in the church. \n\nTuesdays\, 6:00-7:00am at Steve Brown’s home (2067 Lamb Lane). Please let Steve know (229-387-1786) if you’re coming so that you’re included in the number for breakfast.\n\n  \n\nWednesdays\, 6:30-7:30am at Chappy’s Deli (754 E. Glenn Ave.). Contact Stephen Wadsworth for more information at 205-520-6723.
URL:https://christpresauburn.org/featured-event/mens-small-group/2024-08-06/
END:VEVENT
END:VCALENDAR