BEGIN:VCALENDAR
VERSION:2.0
PRODID:-//Christ Presbyterian Church of Auburn, PCA - ECPv6.7.0//NONSGML v1.0//EN
CALSCALE:GREGORIAN
METHOD:PUBLISH
X-WR-CALNAME:Christ Presbyterian Church of Auburn, PCA
X-ORIGINAL-URL:https://christpresauburn.org
X-WR-CALDESC:Events for Christ Presbyterian Church of Auburn, PCA
REFRESH-INTERVAL;VALUE=DURATION:PT1H
X-Robots-Tag:noindex
X-PUBLISHED-TTL:PT1H
BEGIN:VTIMEZONE
TZID:America/Chicago
BEGIN:DAYLIGHT
TZOFFSETFROM:-0600
TZOFFSETTO:-0500
TZNAME:CDT
DTSTART:20240310T080000
END:DAYLIGHT
BEGIN:STANDARD
TZOFFSETFROM:-0500
TZOFFSETTO:-0600
TZNAME:CST
DTSTART:20241103T070000
END:STANDARD
END:VTIMEZONE
BEGIN:VEVENT
DTSTART;TZID=America/Chicago:20240730T193000
DTEND;TZID=America/Chicago:20240730T210000
DTSTAMP:20260423T074827
CREATED:20240430T135507Z
LAST-MODIFIED:20240521T185531Z
UID:1758-1722367800-1722373200@christpresauburn.org
SUMMARY:Young Adult Ladies Bible Study
DESCRIPTION:Led by Mackenzie Shideler at the Shidelers’ home (2376 Snowshill Lane)
URL:https://christpresauburn.org/featured-event/ladies-bible-study-2/2024-07-30/
END:VEVENT
BEGIN:VEVENT
DTSTART;TZID=America/Chicago:20240723T193000
DTEND;TZID=America/Chicago:20240723T210000
DTSTAMP:20260423T074827
CREATED:20240430T135507Z
LAST-MODIFIED:20240521T185531Z
UID:1757-1721763000-1721768400@christpresauburn.org
SUMMARY:Young Adult Ladies Bible Study
DESCRIPTION:Led by Mackenzie Shideler at the Shidelers’ home (2376 Snowshill Lane)
URL:https://christpresauburn.org/featured-event/ladies-bible-study-2/2024-07-23/
END:VEVENT
BEGIN:VEVENT
DTSTART;TZID=America/Chicago:20240716T193000
DTEND;TZID=America/Chicago:20240716T210000
DTSTAMP:20260423T074827
CREATED:20240430T135507Z
LAST-MODIFIED:20240521T185531Z
UID:1756-1721158200-1721163600@christpresauburn.org
SUMMARY:Young Adult Ladies Bible Study
DESCRIPTION:Led by Mackenzie Shideler at the Shidelers’ home (2376 Snowshill Lane)
URL:https://christpresauburn.org/featured-event/ladies-bible-study-2/2024-07-16/
END:VEVENT
BEGIN:VEVENT
DTSTART;TZID=America/Chicago:20240709T193000
DTEND;TZID=America/Chicago:20240709T210000
DTSTAMP:20260423T074827
CREATED:20240430T135507Z
LAST-MODIFIED:20240521T185531Z
UID:1755-1720553400-1720558800@christpresauburn.org
SUMMARY:Young Adult Ladies Bible Study
DESCRIPTION:Led by Mackenzie Shideler at the Shidelers’ home (2376 Snowshill Lane)
URL:https://christpresauburn.org/featured-event/ladies-bible-study-2/2024-07-09/
END:VEVENT
BEGIN:VEVENT
DTSTART;TZID=America/Chicago:20240702T193000
DTEND;TZID=America/Chicago:20240702T210000
DTSTAMP:20260423T074827
CREATED:20240430T135507Z
LAST-MODIFIED:20240521T185530Z
UID:1754-1719948600-1719954000@christpresauburn.org
SUMMARY:Young Adult Ladies Bible Study
DESCRIPTION:Led by Mackenzie Shideler at the Shidelers’ home (2376 Snowshill Lane)
URL:https://christpresauburn.org/featured-event/ladies-bible-study-2/2024-07-02/
END:VEVENT
BEGIN:VEVENT
DTSTART;TZID=America/Chicago:20240625T193000
DTEND;TZID=America/Chicago:20240625T210000
DTSTAMP:20260423T074827
CREATED:20240430T135507Z
LAST-MODIFIED:20240521T185530Z
UID:1753-1719343800-1719349200@christpresauburn.org
SUMMARY:Young Adult Ladies Bible Study
DESCRIPTION:Led by Mackenzie Shideler at the Shidelers’ home (2376 Snowshill Lane)
URL:https://christpresauburn.org/featured-event/ladies-bible-study-2/2024-06-25/
END:VEVENT
BEGIN:VEVENT
DTSTART;TZID=America/Chicago:20240618T193000
DTEND;TZID=America/Chicago:20240618T210000
DTSTAMP:20260423T074827
CREATED:20240430T135507Z
LAST-MODIFIED:20240521T185530Z
UID:1752-1718739000-1718744400@christpresauburn.org
SUMMARY:Young Adult Ladies Bible Study
DESCRIPTION:Led by Mackenzie Shideler at the Shidelers’ home (2376 Snowshill Lane)
URL:https://christpresauburn.org/featured-event/ladies-bible-study-2/2024-06-18/
END:VEVENT
BEGIN:VEVENT
DTSTART;TZID=America/Chicago:20240611T193000
DTEND;TZID=America/Chicago:20240611T210000
DTSTAMP:20260423T074827
CREATED:20240430T135507Z
LAST-MODIFIED:20240521T185529Z
UID:1751-1718134200-1718139600@christpresauburn.org
SUMMARY:Young Adult Ladies Bible Study
DESCRIPTION:Led by Mackenzie Shideler at the Shidelers’ home (2376 Snowshill Lane)
URL:https://christpresauburn.org/featured-event/ladies-bible-study-2/2024-06-11/
END:VEVENT
BEGIN:VEVENT
DTSTART;TZID=America/Chicago:20240604T193000
DTEND;TZID=America/Chicago:20240604T210000
DTSTAMP:20260423T074827
CREATED:20240430T135507Z
LAST-MODIFIED:20240521T185529Z
UID:1750-1717529400-1717534800@christpresauburn.org
SUMMARY:Young Adult Ladies Bible Study
DESCRIPTION:Led by Mackenzie Shideler at the Shidelers’ home (2376 Snowshill Lane)
URL:https://christpresauburn.org/featured-event/ladies-bible-study-2/2024-06-04/
END:VEVENT
BEGIN:VEVENT
DTSTART;TZID=America/Chicago:20240528T193000
DTEND;TZID=America/Chicago:20240528T210000
DTSTAMP:20260423T074827
CREATED:20240430T135507Z
LAST-MODIFIED:20240521T185529Z
UID:1749-1716924600-1716930000@christpresauburn.org
SUMMARY:Young Adult Ladies Bible Study
DESCRIPTION:Led by Mackenzie Shideler at the Shidelers’ home (2376 Snowshill Lane)
URL:https://christpresauburn.org/featured-event/ladies-bible-study-2/2024-05-28/
END:VEVENT
BEGIN:VEVENT
DTSTART;TZID=America/Chicago:20240521T193000
DTEND;TZID=America/Chicago:20240521T210000
DTSTAMP:20260423T074827
CREATED:20240430T135507Z
LAST-MODIFIED:20240521T185529Z
UID:1564-1716319800-1716325200@christpresauburn.org
SUMMARY:Young Adult Ladies Bible Study
DESCRIPTION:Led by Mackenzie Shideler at the Shidelers’ home (2376 Snowshill Lane)
URL:https://christpresauburn.org/featured-event/ladies-bible-study-2/2024-05-21/
END:VEVENT
BEGIN:VEVENT
DTSTART;TZID=America/Chicago:20240514T193000
DTEND;TZID=America/Chicago:20240514T210000
DTSTAMP:20260423T074827
CREATED:20240430T135507Z
LAST-MODIFIED:20240521T185529Z
UID:1563-1715715000-1715720400@christpresauburn.org
SUMMARY:Young Adult Ladies Bible Study
DESCRIPTION:Led by Mackenzie Shideler at the Shidelers’ home (2376 Snowshill Lane)
URL:https://christpresauburn.org/featured-event/ladies-bible-study-2/2024-05-14/
END:VEVENT
BEGIN:VEVENT
DTSTART;TZID=America/Chicago:20240507T193000
DTEND;TZID=America/Chicago:20240507T210000
DTSTAMP:20260423T074827
CREATED:20240430T135507Z
LAST-MODIFIED:20240521T185528Z
UID:1562-1715110200-1715115600@christpresauburn.org
SUMMARY:Young Adult Ladies Bible Study
DESCRIPTION:Led by Mackenzie Shideler at the Shidelers’ home (2376 Snowshill Lane)
URL:https://christpresauburn.org/featured-event/ladies-bible-study-2/2024-05-07/
END:VEVENT
BEGIN:VEVENT
DTSTART;TZID=America/Chicago:20240430T193000
DTEND;TZID=America/Chicago:20240430T210000
DTSTAMP:20260423T074827
CREATED:20240430T135507Z
LAST-MODIFIED:20240521T185528Z
UID:1561-1714505400-1714510800@christpresauburn.org
SUMMARY:Young Adult Ladies Bible Study
DESCRIPTION:Led by Mackenzie Shideler at the Shidelers’ home (2376 Snowshill Lane)
URL:https://christpresauburn.org/featured-event/ladies-bible-study-2/2024-04-30/
END:VEVENT
BEGIN:VEVENT
DTSTART;TZID=America/Chicago:20240423T193000
DTEND;TZID=America/Chicago:20240423T210000
DTSTAMP:20260423T074827
CREATED:20240430T135507Z
LAST-MODIFIED:20240521T185528Z
UID:1560-1713900600-1713906000@christpresauburn.org
SUMMARY:Young Adult Ladies Bible Study
DESCRIPTION:Led by Mackenzie Shideler at the Shidelers’ home (2376 Snowshill Lane)
URL:https://christpresauburn.org/featured-event/ladies-bible-study-2/2024-04-23/
END:VEVENT
BEGIN:VEVENT
DTSTART;TZID=America/Chicago:20240123T193000
DTEND;TZID=America/Chicago:20240123T210000
DTSTAMP:20260423T074827
CREATED:20240430T135507Z
LAST-MODIFIED:20240521T185524Z
UID:1547-1706038200-1706043600@christpresauburn.org
SUMMARY:Young Adult Ladies Bible Study
DESCRIPTION:Led by Mackenzie Shideler at the Shidelers’ home (2376 Snowshill Lane)
URL:https://christpresauburn.org/featured-event/ladies-bible-study-2/2024-01-23/
END:VEVENT
END:VCALENDAR