BEGIN:VCALENDAR
VERSION:2.0
PRODID:-//Christ Presbyterian Church of Auburn, PCA - ECPv6.7.0//NONSGML v1.0//EN
CALSCALE:GREGORIAN
METHOD:PUBLISH
X-ORIGINAL-URL:https://christpresauburn.org
X-WR-CALDESC:Events for Christ Presbyterian Church of Auburn, PCA
REFRESH-INTERVAL;VALUE=DURATION:PT1H
X-Robots-Tag:noindex
X-PUBLISHED-TTL:PT1H
BEGIN:VTIMEZONE
TZID:America/Chicago
BEGIN:DAYLIGHT
TZOFFSETFROM:-0600
TZOFFSETTO:-0500
TZNAME:CDT
DTSTART:20260308T080000
END:DAYLIGHT
BEGIN:STANDARD
TZOFFSETFROM:-0500
TZOFFSETTO:-0600
TZNAME:CST
DTSTART:20261101T070000
END:STANDARD
END:VTIMEZONE
BEGIN:VEVENT
DTSTART;TZID=America/Chicago:20260416T150000
DTEND;TZID=America/Chicago:20260416T163000
DTSTAMP:20260421T160002
CREATED:20260129T203920Z
LAST-MODIFIED:20260129T203920Z
UID:3015-1776351600-1776357000@christpresauburn.org
SUMMARY:College Guys Small Group Bible Studies
DESCRIPTION:Guys\, we have several different small groups meeting throughout the week. \n\nTuesdays at 12:30pm at Little Italy\nTuesdays at 6:00pm at the Gaunces’ house (268 Solamere Ln)\nWednesdays (time TBD) on top of Triple H\nThursdays at 3:00pm at Momma G’s\n\nContact Caleb Gaunce (270-564-2507) for more information. \n 
URL:https://christpresauburn.org/featured-event/college-guys-small-group-bible-studies-3/2026-04-16/
END:VEVENT
BEGIN:VEVENT
DTSTART;TZID=America/Chicago:20260409T150000
DTEND;TZID=America/Chicago:20260409T163000
DTSTAMP:20260421T160002
CREATED:20260129T203920Z
LAST-MODIFIED:20260129T203920Z
UID:3014-1775746800-1775752200@christpresauburn.org
SUMMARY:College Guys Small Group Bible Studies
DESCRIPTION:Guys\, we have several different small groups meeting throughout the week. \n\nTuesdays at 12:30pm at Little Italy\nTuesdays at 6:00pm at the Gaunces’ house (268 Solamere Ln)\nWednesdays (time TBD) on top of Triple H\nThursdays at 3:00pm at Momma G’s\n\nContact Caleb Gaunce (270-564-2507) for more information. \n 
URL:https://christpresauburn.org/featured-event/college-guys-small-group-bible-studies-3/2026-04-09/
END:VEVENT
BEGIN:VEVENT
DTSTART;TZID=America/Chicago:20260402T150000
DTEND;TZID=America/Chicago:20260402T163000
DTSTAMP:20260421T160002
CREATED:20260129T203920Z
LAST-MODIFIED:20260129T203920Z
UID:3013-1775142000-1775147400@christpresauburn.org
SUMMARY:College Guys Small Group Bible Studies
DESCRIPTION:Guys\, we have several different small groups meeting throughout the week. \n\nTuesdays at 12:30pm at Little Italy\nTuesdays at 6:00pm at the Gaunces’ house (268 Solamere Ln)\nWednesdays (time TBD) on top of Triple H\nThursdays at 3:00pm at Momma G’s\n\nContact Caleb Gaunce (270-564-2507) for more information. \n 
URL:https://christpresauburn.org/featured-event/college-guys-small-group-bible-studies-3/2026-04-02/
END:VEVENT
BEGIN:VEVENT
DTSTART;TZID=America/Chicago:20260326T150000
DTEND;TZID=America/Chicago:20260326T163000
DTSTAMP:20260421T160002
CREATED:20260129T203920Z
LAST-MODIFIED:20260129T203920Z
UID:3012-1774537200-1774542600@christpresauburn.org
SUMMARY:College Guys Small Group Bible Studies
DESCRIPTION:Guys\, we have several different small groups meeting throughout the week. \n\nTuesdays at 12:30pm at Little Italy\nTuesdays at 6:00pm at the Gaunces’ house (268 Solamere Ln)\nWednesdays (time TBD) on top of Triple H\nThursdays at 3:00pm at Momma G’s\n\nContact Caleb Gaunce (270-564-2507) for more information. \n 
URL:https://christpresauburn.org/featured-event/college-guys-small-group-bible-studies-3/2026-03-26/
END:VEVENT
BEGIN:VEVENT
DTSTART;TZID=America/Chicago:20260319T150000
DTEND;TZID=America/Chicago:20260319T163000
DTSTAMP:20260421T160002
CREATED:20260129T203920Z
LAST-MODIFIED:20260129T203920Z
UID:3011-1773932400-1773937800@christpresauburn.org
SUMMARY:College Guys Small Group Bible Studies
DESCRIPTION:Guys\, we have several different small groups meeting throughout the week. \n\nTuesdays at 12:30pm at Little Italy\nTuesdays at 6:00pm at the Gaunces’ house (268 Solamere Ln)\nWednesdays (time TBD) on top of Triple H\nThursdays at 3:00pm at Momma G’s\n\nContact Caleb Gaunce (270-564-2507) for more information. \n 
URL:https://christpresauburn.org/featured-event/college-guys-small-group-bible-studies-3/2026-03-19/
END:VEVENT
BEGIN:VEVENT
DTSTART;TZID=America/Chicago:20260305T150000
DTEND;TZID=America/Chicago:20260305T163000
DTSTAMP:20260421T160002
CREATED:20260129T203920Z
LAST-MODIFIED:20260129T203920Z
UID:3010-1772722800-1772728200@christpresauburn.org
SUMMARY:College Guys Small Group Bible Studies
DESCRIPTION:Guys\, we have several different small groups meeting throughout the week. \n\nTuesdays at 12:30pm at Little Italy\nTuesdays at 6:00pm at the Gaunces’ house (268 Solamere Ln)\nWednesdays (time TBD) on top of Triple H\nThursdays at 3:00pm at Momma G’s\n\nContact Caleb Gaunce (270-564-2507) for more information. \n 
URL:https://christpresauburn.org/featured-event/college-guys-small-group-bible-studies-3/2026-03-05/
END:VEVENT
BEGIN:VEVENT
DTSTART;TZID=America/Chicago:20260226T150000
DTEND;TZID=America/Chicago:20260226T163000
DTSTAMP:20260421T160002
CREATED:20260129T203920Z
LAST-MODIFIED:20260129T203920Z
UID:3009-1772118000-1772123400@christpresauburn.org
SUMMARY:College Guys Small Group Bible Studies
DESCRIPTION:Guys\, we have several different small groups meeting throughout the week. \n\nTuesdays at 12:30pm at Little Italy\nTuesdays at 6:00pm at the Gaunces’ house (268 Solamere Ln)\nWednesdays (time TBD) on top of Triple H\nThursdays at 3:00pm at Momma G’s\n\nContact Caleb Gaunce (270-564-2507) for more information. \n 
URL:https://christpresauburn.org/featured-event/college-guys-small-group-bible-studies-3/2026-02-26/
END:VEVENT
BEGIN:VEVENT
DTSTART;TZID=America/Chicago:20260219T150000
DTEND;TZID=America/Chicago:20260219T163000
DTSTAMP:20260421T160002
CREATED:20260129T203920Z
LAST-MODIFIED:20260129T203920Z
UID:3008-1771513200-1771518600@christpresauburn.org
SUMMARY:College Guys Small Group Bible Studies
DESCRIPTION:Guys\, we have several different small groups meeting throughout the week. \n\nTuesdays at 12:30pm at Little Italy\nTuesdays at 6:00pm at the Gaunces’ house (268 Solamere Ln)\nWednesdays (time TBD) on top of Triple H\nThursdays at 3:00pm at Momma G’s\n\nContact Caleb Gaunce (270-564-2507) for more information. \n 
URL:https://christpresauburn.org/featured-event/college-guys-small-group-bible-studies-3/2026-02-19/
END:VEVENT
BEGIN:VEVENT
DTSTART;TZID=America/Chicago:20260212T150000
DTEND;TZID=America/Chicago:20260212T163000
DTSTAMP:20260421T160002
CREATED:20260129T203920Z
LAST-MODIFIED:20260129T203920Z
UID:3007-1770908400-1770913800@christpresauburn.org
SUMMARY:College Guys Small Group Bible Studies
DESCRIPTION:Guys\, we have several different small groups meeting throughout the week. \n\nTuesdays at 12:30pm at Little Italy\nTuesdays at 6:00pm at the Gaunces’ house (268 Solamere Ln)\nWednesdays (time TBD) on top of Triple H\nThursdays at 3:00pm at Momma G’s\n\nContact Caleb Gaunce (270-564-2507) for more information. \n 
URL:https://christpresauburn.org/featured-event/college-guys-small-group-bible-studies-3/2026-02-12/
END:VEVENT
BEGIN:VEVENT
DTSTART;TZID=America/Chicago:20260205T150000
DTEND;TZID=America/Chicago:20260205T163000
DTSTAMP:20260421T160002
CREATED:20260129T203920Z
LAST-MODIFIED:20260129T203920Z
UID:3006-1770303600-1770309000@christpresauburn.org
SUMMARY:College Guys Small Group Bible Studies
DESCRIPTION:Guys\, we have several different small groups meeting throughout the week. \n\nTuesdays at 12:30pm at Little Italy\nTuesdays at 6:00pm at the Gaunces’ house (268 Solamere Ln)\nWednesdays (time TBD) on top of Triple H\nThursdays at 3:00pm at Momma G’s\n\nContact Caleb Gaunce (270-564-2507) for more information. \n 
URL:https://christpresauburn.org/featured-event/college-guys-small-group-bible-studies-3/2026-02-05/
END:VEVENT
BEGIN:VEVENT
DTSTART;TZID=America/Chicago:20260129T150000
DTEND;TZID=America/Chicago:20260129T163000
DTSTAMP:20260421T160002
CREATED:20260129T203920Z
LAST-MODIFIED:20260129T203920Z
UID:3005-1769698800-1769704200@christpresauburn.org
SUMMARY:College Guys Small Group Bible Studies
DESCRIPTION:Guys\, we have several different small groups meeting throughout the week. \n\nTuesdays at 12:30pm at Little Italy\nTuesdays at 6:00pm at the Gaunces’ house (268 Solamere Ln)\nWednesdays (time TBD) on top of Triple H\nThursdays at 3:00pm at Momma G’s\n\nContact Caleb Gaunce (270-564-2507) for more information. \n 
URL:https://christpresauburn.org/featured-event/college-guys-small-group-bible-studies-3/2026-01-29/
END:VEVENT
BEGIN:VEVENT
DTSTART;TZID=America/Chicago:20260122T150000
DTEND;TZID=America/Chicago:20260122T163000
DTSTAMP:20260421T160002
CREATED:20260129T203920Z
LAST-MODIFIED:20260129T203920Z
UID:3004-1769094000-1769099400@christpresauburn.org
SUMMARY:College Guys Small Group Bible Studies
DESCRIPTION:Guys\, we have several different small groups meeting throughout the week. \n\nTuesdays at 12:30pm at Little Italy\nTuesdays at 6:00pm at the Gaunces’ house (268 Solamere Ln)\nWednesdays (time TBD) on top of Triple H\nThursdays at 3:00pm at Momma G’s\n\nContact Caleb Gaunce (270-564-2507) for more information. \n 
URL:https://christpresauburn.org/featured-event/college-guys-small-group-bible-studies-3/2026-01-22/
END:VEVENT
BEGIN:VEVENT
DTSTART;TZID=America/Chicago:20260115T150000
DTEND;TZID=America/Chicago:20260115T163000
DTSTAMP:20260421T160002
CREATED:20260129T203920Z
LAST-MODIFIED:20260129T203920Z
UID:3003-1768489200-1768494600@christpresauburn.org
SUMMARY:College Guys Small Group Bible Studies
DESCRIPTION:Guys\, we have several different small groups meeting throughout the week. \n\nTuesdays at 12:30pm at Little Italy\nTuesdays at 6:00pm at the Gaunces’ house (268 Solamere Ln)\nWednesdays (time TBD) on top of Triple H\nThursdays at 3:00pm at Momma G’s\n\nContact Caleb Gaunce (270-564-2507) for more information. \n 
URL:https://christpresauburn.org/featured-event/college-guys-small-group-bible-studies-3/2026-01-15/
END:VEVENT
END:VCALENDAR