BEGIN:VCALENDAR
VERSION:2.0
PRODID:-//Christ Presbyterian Church of Auburn, PCA - ECPv6.7.0//NONSGML v1.0//EN
CALSCALE:GREGORIAN
METHOD:PUBLISH
X-ORIGINAL-URL:https://christpresauburn.org
X-WR-CALDESC:Events for Christ Presbyterian Church of Auburn, PCA
REFRESH-INTERVAL;VALUE=DURATION:PT1H
X-Robots-Tag:noindex
X-PUBLISHED-TTL:PT1H
BEGIN:VTIMEZONE
TZID:America/Chicago
BEGIN:DAYLIGHT
TZOFFSETFROM:-0600
TZOFFSETTO:-0500
TZNAME:CDT
DTSTART:20260308T080000
END:DAYLIGHT
BEGIN:STANDARD
TZOFFSETFROM:-0500
TZOFFSETTO:-0600
TZNAME:CST
DTSTART:20261101T070000
END:STANDARD
END:VTIMEZONE
BEGIN:VEVENT
DTSTART;TZID=America/Chicago:20260305T180000
DTEND;TZID=America/Chicago:20260305T193000
DTSTAMP:20260425T103302
CREATED:20260129T202935Z
LAST-MODIFIED:20260319T190846Z
UID:2961-1772733600-1772739000@christpresauburn.org
SUMMARY:College Girls Bible Study
DESCRIPTION:The Book of Ruth – led by Betty Thomas at the Aldermans’ home (1842 Creekwood Trail). Light supper at 6:00 with teaching beginning at 6:45. Contact Mary Alderman (334-728-2493) or Betty Thomas (334-744-1886) with questions.
URL:https://christpresauburn.org/featured-event/college-girls-bible-study-7/2026-03-05/
END:VEVENT
BEGIN:VEVENT
DTSTART;TZID=America/Chicago:20260226T180000
DTEND;TZID=America/Chicago:20260226T193000
DTSTAMP:20260425T103302
CREATED:20260129T202935Z
LAST-MODIFIED:20260319T190846Z
UID:2960-1772128800-1772134200@christpresauburn.org
SUMMARY:College Girls Bible Study
DESCRIPTION:The Book of Ruth – led by Betty Thomas at the Aldermans’ home (1842 Creekwood Trail). Light supper at 6:00 with teaching beginning at 6:45. Contact Mary Alderman (334-728-2493) or Betty Thomas (334-744-1886) with questions.
URL:https://christpresauburn.org/featured-event/college-girls-bible-study-7/2026-02-26/
END:VEVENT
BEGIN:VEVENT
DTSTART;TZID=America/Chicago:20260219T180000
DTEND;TZID=America/Chicago:20260219T193000
DTSTAMP:20260425T103302
CREATED:20260129T202935Z
LAST-MODIFIED:20260319T190846Z
UID:2959-1771524000-1771529400@christpresauburn.org
SUMMARY:College Girls Bible Study
DESCRIPTION:The Book of Ruth – led by Betty Thomas at the Aldermans’ home (1842 Creekwood Trail). Light supper at 6:00 with teaching beginning at 6:45. Contact Mary Alderman (334-728-2493) or Betty Thomas (334-744-1886) with questions.
URL:https://christpresauburn.org/featured-event/college-girls-bible-study-7/2026-02-19/
END:VEVENT
BEGIN:VEVENT
DTSTART;TZID=America/Chicago:20260212T180000
DTEND;TZID=America/Chicago:20260212T193000
DTSTAMP:20260425T103302
CREATED:20260129T202935Z
LAST-MODIFIED:20260319T190844Z
UID:2958-1770919200-1770924600@christpresauburn.org
SUMMARY:College Girls Bible Study
DESCRIPTION:The Book of Ruth – led by Betty Thomas at the Aldermans’ home (1842 Creekwood Trail). Light supper at 6:00 with teaching beginning at 6:45. Contact Mary Alderman (334-728-2493) or Betty Thomas (334-744-1886) with questions.
URL:https://christpresauburn.org/featured-event/college-girls-bible-study-7/2026-02-12/
END:VEVENT
BEGIN:VEVENT
DTSTART;TZID=America/Chicago:20260205T180000
DTEND;TZID=America/Chicago:20260205T193000
DTSTAMP:20260425T103302
CREATED:20260129T202935Z
LAST-MODIFIED:20260319T190844Z
UID:2957-1770314400-1770319800@christpresauburn.org
SUMMARY:College Girls Bible Study
DESCRIPTION:The Book of Ruth – led by Betty Thomas at the Aldermans’ home (1842 Creekwood Trail). Light supper at 6:00 with teaching beginning at 6:45. Contact Mary Alderman (334-728-2493) or Betty Thomas (334-744-1886) with questions.
URL:https://christpresauburn.org/featured-event/college-girls-bible-study-7/2026-02-05/
END:VEVENT
BEGIN:VEVENT
DTSTART;TZID=America/Chicago:20260129T180000
DTEND;TZID=America/Chicago:20260129T193000
DTSTAMP:20260425T103302
CREATED:20260129T202935Z
LAST-MODIFIED:20260319T190844Z
UID:2956-1769709600-1769715000@christpresauburn.org
SUMMARY:College Girls Bible Study
DESCRIPTION:The Book of Ruth – led by Betty Thomas at the Aldermans’ home (1842 Creekwood Trail). Light supper at 6:00 with teaching beginning at 6:45. Contact Mary Alderman (334-728-2493) or Betty Thomas (334-744-1886) with questions.
URL:https://christpresauburn.org/featured-event/college-girls-bible-study-7/2026-01-29/
END:VEVENT
BEGIN:VEVENT
DTSTART;TZID=America/Chicago:20260122T180000
DTEND;TZID=America/Chicago:20260122T193000
DTSTAMP:20260425T103302
CREATED:20260129T202935Z
LAST-MODIFIED:20260319T190844Z
UID:2955-1769104800-1769110200@christpresauburn.org
SUMMARY:College Girls Bible Study
DESCRIPTION:The Book of Ruth – led by Betty Thomas at the Aldermans’ home (1842 Creekwood Trail). Light supper at 6:00 with teaching beginning at 6:45. Contact Mary Alderman (334-728-2493) or Betty Thomas (334-744-1886) with questions.
URL:https://christpresauburn.org/featured-event/college-girls-bible-study-7/2026-01-22/
END:VEVENT
BEGIN:VEVENT
DTSTART;TZID=America/Chicago:20260115T180000
DTEND;TZID=America/Chicago:20260115T193000
DTSTAMP:20260425T103302
CREATED:20260129T202935Z
LAST-MODIFIED:20260319T190843Z
UID:2954-1768500000-1768505400@christpresauburn.org
SUMMARY:College Girls Bible Study
DESCRIPTION:The Book of Ruth – led by Betty Thomas at the Aldermans’ home (1842 Creekwood Trail). Light supper at 6:00 with teaching beginning at 6:45. Contact Mary Alderman (334-728-2493) or Betty Thomas (334-744-1886) with questions.
URL:https://christpresauburn.org/featured-event/college-girls-bible-study-7/2026-01-15/
END:VEVENT
END:VCALENDAR