BEGIN:VCALENDAR
VERSION:2.0
PRODID:-//Christ Presbyterian Church of Auburn, PCA - ECPv6.7.0//NONSGML v1.0//EN
CALSCALE:GREGORIAN
METHOD:PUBLISH
X-WR-CALNAME:Christ Presbyterian Church of Auburn, PCA
X-ORIGINAL-URL:https://christpresauburn.org
X-WR-CALDESC:Events for Christ Presbyterian Church of Auburn, PCA
REFRESH-INTERVAL;VALUE=DURATION:PT1H
X-Robots-Tag:noindex
X-PUBLISHED-TTL:PT1H
BEGIN:VTIMEZONE
TZID:America/Chicago
BEGIN:DAYLIGHT
TZOFFSETFROM:-0600
TZOFFSETTO:-0500
TZNAME:CDT
DTSTART:20250309T080000
END:DAYLIGHT
BEGIN:STANDARD
TZOFFSETFROM:-0500
TZOFFSETTO:-0600
TZNAME:CST
DTSTART:20251102T070000
END:STANDARD
END:VTIMEZONE
BEGIN:VEVENT
DTSTART;TZID=America/Chicago:20250803T100000
DTEND;TZID=America/Chicago:20250803T111500
DTSTAMP:20260421T185324
CREATED:20250307T173134Z
LAST-MODIFIED:20250520T191422Z
UID:2399-1754215200-1754219700@christpresauburn.org
SUMMARY:Worship Service at 10:00am
DESCRIPTION:We will worship today in one service at 10:00am.
URL:https://christpresauburn.org/featured-event/1-worship-service-at-1000am-3/2025-08-03/
END:VEVENT
BEGIN:VEVENT
DTSTART;TZID=America/Chicago:20250727T100000
DTEND;TZID=America/Chicago:20250727T111500
DTSTAMP:20260421T185324
CREATED:20250307T173134Z
LAST-MODIFIED:20250520T191422Z
UID:2398-1753610400-1753614900@christpresauburn.org
SUMMARY:Worship Service at 10:00am
DESCRIPTION:We will worship today in one service at 10:00am.
URL:https://christpresauburn.org/featured-event/1-worship-service-at-1000am-3/2025-07-27/
END:VEVENT
BEGIN:VEVENT
DTSTART;TZID=America/Chicago:20250720T100000
DTEND;TZID=America/Chicago:20250720T111500
DTSTAMP:20260421T185324
CREATED:20250307T173134Z
LAST-MODIFIED:20250520T191419Z
UID:2397-1753005600-1753010100@christpresauburn.org
SUMMARY:Worship Service at 10:00am
DESCRIPTION:We will worship today in one service at 10:00am.
URL:https://christpresauburn.org/featured-event/1-worship-service-at-1000am-3/2025-07-20/
END:VEVENT
BEGIN:VEVENT
DTSTART;TZID=America/Chicago:20250713T100000
DTEND;TZID=America/Chicago:20250713T111500
DTSTAMP:20260421T185324
CREATED:20250307T173134Z
LAST-MODIFIED:20250520T191419Z
UID:2396-1752400800-1752405300@christpresauburn.org
SUMMARY:Worship Service at 10:00am
DESCRIPTION:We will worship today in one service at 10:00am.
URL:https://christpresauburn.org/featured-event/1-worship-service-at-1000am-3/2025-07-13/
END:VEVENT
BEGIN:VEVENT
DTSTART;TZID=America/Chicago:20250706T100000
DTEND;TZID=America/Chicago:20250706T111500
DTSTAMP:20260421T185324
CREATED:20250307T173134Z
LAST-MODIFIED:20250520T191419Z
UID:2395-1751796000-1751800500@christpresauburn.org
SUMMARY:Worship Service at 10:00am
DESCRIPTION:We will worship today in one service at 10:00am.
URL:https://christpresauburn.org/featured-event/1-worship-service-at-1000am-3/2025-07-06/
END:VEVENT
BEGIN:VEVENT
DTSTART;TZID=America/Chicago:20250629T100000
DTEND;TZID=America/Chicago:20250629T111500
DTSTAMP:20260421T185324
CREATED:20250307T173134Z
LAST-MODIFIED:20250520T191418Z
UID:2394-1751191200-1751195700@christpresauburn.org
SUMMARY:Worship Service at 10:00am
DESCRIPTION:We will worship today in one service at 10:00am.
URL:https://christpresauburn.org/featured-event/1-worship-service-at-1000am-3/2025-06-29/
END:VEVENT
BEGIN:VEVENT
DTSTART;TZID=America/Chicago:20250622T100000
DTEND;TZID=America/Chicago:20250622T111500
DTSTAMP:20260421T185324
CREATED:20250307T173134Z
LAST-MODIFIED:20250520T191418Z
UID:2393-1750586400-1750590900@christpresauburn.org
SUMMARY:Worship Service at 10:00am
DESCRIPTION:We will worship today in one service at 10:00am.
URL:https://christpresauburn.org/featured-event/1-worship-service-at-1000am-3/2025-06-22/
END:VEVENT
BEGIN:VEVENT
DTSTART;TZID=America/Chicago:20250615T100000
DTEND;TZID=America/Chicago:20250615T111500
DTSTAMP:20260421T185324
CREATED:20250307T173134Z
LAST-MODIFIED:20250520T191418Z
UID:2392-1749981600-1749986100@christpresauburn.org
SUMMARY:Worship Service at 10:00am
DESCRIPTION:We will worship today in one service at 10:00am.
URL:https://christpresauburn.org/featured-event/1-worship-service-at-1000am-3/2025-06-15/
END:VEVENT
BEGIN:VEVENT
DTSTART;TZID=America/Chicago:20250608T100000
DTEND;TZID=America/Chicago:20250608T111500
DTSTAMP:20260421T185324
CREATED:20250307T173134Z
LAST-MODIFIED:20250520T191418Z
UID:2391-1749376800-1749381300@christpresauburn.org
SUMMARY:Worship Service at 10:00am
DESCRIPTION:We will worship today in one service at 10:00am.
URL:https://christpresauburn.org/featured-event/1-worship-service-at-1000am-3/2025-06-08/
END:VEVENT
BEGIN:VEVENT
DTSTART;TZID=America/Chicago:20250601T100000
DTEND;TZID=America/Chicago:20250601T111500
DTSTAMP:20260421T185324
CREATED:20250307T173134Z
LAST-MODIFIED:20250520T191417Z
UID:2390-1748772000-1748776500@christpresauburn.org
SUMMARY:Worship Service at 10:00am
DESCRIPTION:We will worship today in one service at 10:00am.
URL:https://christpresauburn.org/featured-event/1-worship-service-at-1000am-3/2025-06-01/
END:VEVENT
BEGIN:VEVENT
DTSTART;TZID=America/Chicago:20250525T100000
DTEND;TZID=America/Chicago:20250525T111500
DTSTAMP:20260421T185324
CREATED:20250307T173134Z
LAST-MODIFIED:20250520T191417Z
UID:2389-1748167200-1748171700@christpresauburn.org
SUMMARY:Worship Service at 10:00am
DESCRIPTION:We will worship today in one service at 10:00am.
URL:https://christpresauburn.org/featured-event/1-worship-service-at-1000am-3/2025-05-25/
END:VEVENT
BEGIN:VEVENT
DTSTART;TZID=America/Chicago:20250518T100000
DTEND;TZID=America/Chicago:20250518T111500
DTSTAMP:20260421T185324
CREATED:20250307T173134Z
LAST-MODIFIED:20250520T191417Z
UID:2388-1747562400-1747566900@christpresauburn.org
SUMMARY:Worship Service at 10:00am
DESCRIPTION:We will worship today in one service at 10:00am.
URL:https://christpresauburn.org/featured-event/1-worship-service-at-1000am-3/2025-05-18/
END:VEVENT
BEGIN:VEVENT
DTSTART;TZID=America/Chicago:20250511T100000
DTEND;TZID=America/Chicago:20250511T111500
DTSTAMP:20260421T185324
CREATED:20250307T173134Z
LAST-MODIFIED:20250520T191417Z
UID:2387-1746957600-1746962100@christpresauburn.org
SUMMARY:Worship Service at 10:00am
DESCRIPTION:We will worship today in one service at 10:00am.
URL:https://christpresauburn.org/featured-event/1-worship-service-at-1000am-3/2025-05-11/
END:VEVENT
END:VCALENDAR